BEGIN:VCALENDAR
VERSION:2.0
PRODID:http://www.kufer.de/kuferweb / DE
METHOD:PUBLISH
CALSCALE:GREGORIAN
X-WR-TIMEZONE:Europe/Berlin
BEGIN:VTIMEZONE
TZID:Europe/Berlin
X-LIC-LOCATION:Europe/Berlin
BEGIN:DAYLIGHT
TZOFFSETFROM:+0100
TZOFFSETTO:+0200
TZNAME:CEST
DTSTART;TZID=Europe/Berlin:19700329T020000
RRULE:FREQ=YEARLY;INTERVAL=1;BYDAY=-1SU;BYMONTH=3
END:DAYLIGHT
BEGIN:STANDARD
TZOFFSETFROM:+0200
TZOFFSETTO:+0100
TZNAME:CET
DTSTART;TZID=Europe/Berlin:19701025T030000
RRULE:FREQ=YEARLY;INTERVAL=1;BYDAY=-1SU;BYMONTH=10
END:STANDARD
END:VTIMEZONE
BEGIN:VEVENT
DTSTAMP:20260419T143106
DTSTART;TZID=Europe/Berlin:20260907T090000
DTEND;TZID=Europe/Berlin:20260907T094500
UID:F263-17-01-20260907T090000@FBSDÜREN
SUMMARY:Babyschwimmen 6 - 12 Monate (Obermaubach) (F263-17-01) 
LOCATION:Lehrschwimmbecken Obermaubach, Hinter den Gärten, 52372 Kreuzau (Obermaubach)
END:VEVENT
BEGIN:VEVENT
DTSTAMP:20260419T143106
DTSTART;TZID=Europe/Berlin:20260914T090000
DTEND;TZID=Europe/Berlin:20260914T094500
UID:F263-17-01-20260914T090000@FBSDÜREN
SUMMARY:Babyschwimmen 6 - 12 Monate (Obermaubach) (F263-17-01) 
LOCATION:Lehrschwimmbecken Obermaubach, Hinter den Gärten, 52372 Kreuzau (Obermaubach)
END:VEVENT
BEGIN:VEVENT
DTSTAMP:20260419T143106
DTSTART;TZID=Europe/Berlin:20260921T090000
DTEND;TZID=Europe/Berlin:20260921T094500
UID:F263-17-01-20260921T090000@FBSDÜREN
SUMMARY:Babyschwimmen 6 - 12 Monate (Obermaubach) (F263-17-01) 
LOCATION:Lehrschwimmbecken Obermaubach, Hinter den Gärten, 52372 Kreuzau (Obermaubach)
END:VEVENT
BEGIN:VEVENT
DTSTAMP:20260419T143106
DTSTART;TZID=Europe/Berlin:20260928T090000
DTEND;TZID=Europe/Berlin:20260928T094500
UID:F263-17-01-20260928T090000@FBSDÜREN
SUMMARY:Babyschwimmen 6 - 12 Monate (Obermaubach) (F263-17-01) 
LOCATION:Lehrschwimmbecken Obermaubach, Hinter den Gärten, 52372 Kreuzau (Obermaubach)
END:VEVENT
BEGIN:VEVENT
DTSTAMP:20260419T143106
DTSTART;TZID=Europe/Berlin:20261005T090000
DTEND;TZID=Europe/Berlin:20261005T094500
UID:F263-17-01-20261005T090000@FBSDÜREN
SUMMARY:Babyschwimmen 6 - 12 Monate (Obermaubach) (F263-17-01) 
LOCATION:Lehrschwimmbecken Obermaubach, Hinter den Gärten, 52372 Kreuzau (Obermaubach)
END:VEVENT
BEGIN:VEVENT
DTSTAMP:20260419T143106
DTSTART;TZID=Europe/Berlin:20261012T090000
DTEND;TZID=Europe/Berlin:20261012T094500
UID:F263-17-01-20261012T090000@FBSDÜREN
SUMMARY:Babyschwimmen 6 - 12 Monate (Obermaubach) (F263-17-01) 
LOCATION:Lehrschwimmbecken Obermaubach, Hinter den Gärten, 52372 Kreuzau (Obermaubach)
END:VEVENT
BEGIN:VEVENT
DTSTAMP:20260419T143106
DTSTART;TZID=Europe/Berlin:20261102T090000
DTEND;TZID=Europe/Berlin:20261102T094500
UID:F263-17-01-20261102T090000@FBSDÜREN
SUMMARY:Babyschwimmen 6 - 12 Monate (Obermaubach) (F263-17-01) 
LOCATION:Lehrschwimmbecken Obermaubach, Hinter den Gärten, 52372 Kreuzau (Obermaubach)
END:VEVENT
BEGIN:VEVENT
DTSTAMP:20260419T143106
DTSTART;TZID=Europe/Berlin:20261109T090000
DTEND;TZID=Europe/Berlin:20261109T094500
UID:F263-17-01-20261109T090000@FBSDÜREN
SUMMARY:Babyschwimmen 6 - 12 Monate (Obermaubach) (F263-17-01) 
LOCATION:Lehrschwimmbecken Obermaubach, Hinter den Gärten, 52372 Kreuzau (Obermaubach)
END:VEVENT
BEGIN:VEVENT
DTSTAMP:20260419T143106
DTSTART;TZID=Europe/Berlin:20261116T090000
DTEND;TZID=Europe/Berlin:20261116T094500
UID:F263-17-01-20261116T090000@FBSDÜREN
SUMMARY:Babyschwimmen 6 - 12 Monate (Obermaubach) (F263-17-01) 
LOCATION:Lehrschwimmbecken Obermaubach, Hinter den Gärten, 52372 Kreuzau (Obermaubach)
END:VEVENT
BEGIN:VEVENT
DTSTAMP:20260419T143106
DTSTART;TZID=Europe/Berlin:20261123T090000
DTEND;TZID=Europe/Berlin:20261123T094500
UID:F263-17-01-20261123T090000@FBSDÜREN
SUMMARY:Babyschwimmen 6 - 12 Monate (Obermaubach) (F263-17-01) 
LOCATION:Lehrschwimmbecken Obermaubach, Hinter den Gärten, 52372 Kreuzau (Obermaubach)
END:VEVENT
BEGIN:VEVENT
DTSTAMP:20260419T143106
DTSTART;TZID=Europe/Berlin:20261130T090000
DTEND;TZID=Europe/Berlin:20261130T094500
UID:F263-17-01-20261130T090000@FBSDÜREN
SUMMARY:Babyschwimmen 6 - 12 Monate (Obermaubach) (F263-17-01) 
LOCATION:Lehrschwimmbecken Obermaubach, Hinter den Gärten, 52372 Kreuzau (Obermaubach)
END:VEVENT
BEGIN:VEVENT
DTSTAMP:20260419T143106
DTSTART;TZID=Europe/Berlin:20261207T090000
DTEND;TZID=Europe/Berlin:20261207T094500
UID:F263-17-01-20261207T090000@FBSDÜREN
SUMMARY:Babyschwimmen 6 - 12 Monate (Obermaubach) (F263-17-01) 
LOCATION:Lehrschwimmbecken Obermaubach, Hinter den Gärten, 52372 Kreuzau (Obermaubach)
END:VEVENT
BEGIN:VEVENT
DTSTAMP:20260419T143106
DTSTART;TZID=Europe/Berlin:20261214T090000
DTEND;TZID=Europe/Berlin:20261214T094500
UID:F263-17-01-20261214T090000@FBSDÜREN
SUMMARY:Babyschwimmen 6 - 12 Monate (Obermaubach) (F263-17-01) 
LOCATION:Lehrschwimmbecken Obermaubach, Hinter den Gärten, 52372 Kreuzau (Obermaubach)
END:VEVENT
END:VCALENDAR