BEGIN:VCALENDAR
VERSION:2.0
PRODID:http://www.kufer.de/kuferweb / DE
METHOD:PUBLISH
CALSCALE:GREGORIAN
X-WR-TIMEZONE:Europe/Berlin
BEGIN:VTIMEZONE
TZID:Europe/Berlin
X-LIC-LOCATION:Europe/Berlin
BEGIN:DAYLIGHT
TZOFFSETFROM:+0100
TZOFFSETTO:+0200
TZNAME:CEST
DTSTART;TZID=Europe/Berlin:19700329T020000
RRULE:FREQ=YEARLY;INTERVAL=1;BYDAY=-1SU;BYMONTH=3
END:DAYLIGHT
BEGIN:STANDARD
TZOFFSETFROM:+0200
TZOFFSETTO:+0100
TZNAME:CET
DTSTART;TZID=Europe/Berlin:19701025T030000
RRULE:FREQ=YEARLY;INTERVAL=1;BYDAY=-1SU;BYMONTH=10
END:STANDARD
END:VTIMEZONE
BEGIN:VEVENT
DTSTAMP:20260422T121227
DTSTART;TZID=Europe/Berlin:20260908T100000
DTEND;TZID=Europe/Berlin:20260908T113000
UID:F263-16-01-20260908T100000@FBSDÜREN
SUMMARY:Eltern-Kind-Gruppe "Krabbelkäfer" 6-18 Monate (F263-16-01) 
LOCATION:Mütze, Wilhelm-Wester-Weg 1A, 52349 Düren
END:VEVENT
BEGIN:VEVENT
DTSTAMP:20260422T121227
DTSTART;TZID=Europe/Berlin:20260915T100000
DTEND;TZID=Europe/Berlin:20260915T113000
UID:F263-16-01-20260915T100000@FBSDÜREN
SUMMARY:Eltern-Kind-Gruppe "Krabbelkäfer" 6-18 Monate (F263-16-01) 
LOCATION:DELFI, Wilhelm-Wester-Weg 1A, 52349 Düren
END:VEVENT
BEGIN:VEVENT
DTSTAMP:20260422T121227
DTSTART;TZID=Europe/Berlin:20260922T100000
DTEND;TZID=Europe/Berlin:20260922T113000
UID:F263-16-01-20260922T100000@FBSDÜREN
SUMMARY:Eltern-Kind-Gruppe "Krabbelkäfer" 6-18 Monate (F263-16-01) 
LOCATION:DELFI, Wilhelm-Wester-Weg 1A, 52349 Düren
END:VEVENT
BEGIN:VEVENT
DTSTAMP:20260422T121227
DTSTART;TZID=Europe/Berlin:20261006T100000
DTEND;TZID=Europe/Berlin:20261006T113000
UID:F263-16-01-20261006T100000@FBSDÜREN
SUMMARY:Eltern-Kind-Gruppe "Krabbelkäfer" 6-18 Monate (F263-16-01) 
LOCATION:DELFI, Wilhelm-Wester-Weg 1A, 52349 Düren
END:VEVENT
BEGIN:VEVENT
DTSTAMP:20260422T121227
DTSTART;TZID=Europe/Berlin:20261013T100000
DTEND;TZID=Europe/Berlin:20261013T113000
UID:F263-16-01-20261013T100000@FBSDÜREN
SUMMARY:Eltern-Kind-Gruppe "Krabbelkäfer" 6-18 Monate (F263-16-01) 
LOCATION:DELFI, Wilhelm-Wester-Weg 1A, 52349 Düren
END:VEVENT
BEGIN:VEVENT
DTSTAMP:20260422T121227
DTSTART;TZID=Europe/Berlin:20261103T100000
DTEND;TZID=Europe/Berlin:20261103T113000
UID:F263-16-01-20261103T100000@FBSDÜREN
SUMMARY:Eltern-Kind-Gruppe "Krabbelkäfer" 6-18 Monate (F263-16-01) 
LOCATION:DELFI, Wilhelm-Wester-Weg 1A, 52349 Düren
END:VEVENT
BEGIN:VEVENT
DTSTAMP:20260422T121227
DTSTART;TZID=Europe/Berlin:20261110T100000
DTEND;TZID=Europe/Berlin:20261110T113000
UID:F263-16-01-20261110T100000@FBSDÜREN
SUMMARY:Eltern-Kind-Gruppe "Krabbelkäfer" 6-18 Monate (F263-16-01) 
LOCATION:DELFI, Wilhelm-Wester-Weg 1A, 52349 Düren
END:VEVENT
BEGIN:VEVENT
DTSTAMP:20260422T121227
DTSTART;TZID=Europe/Berlin:20261117T100000
DTEND;TZID=Europe/Berlin:20261117T113000
UID:F263-16-01-20261117T100000@FBSDÜREN
SUMMARY:Eltern-Kind-Gruppe "Krabbelkäfer" 6-18 Monate (F263-16-01) 
LOCATION:DELFI, Wilhelm-Wester-Weg 1A, 52349 Düren
END:VEVENT
BEGIN:VEVENT
DTSTAMP:20260422T121227
DTSTART;TZID=Europe/Berlin:20261124T100000
DTEND;TZID=Europe/Berlin:20261124T113000
UID:F263-16-01-20261124T100000@FBSDÜREN
SUMMARY:Eltern-Kind-Gruppe "Krabbelkäfer" 6-18 Monate (F263-16-01) 
LOCATION:Mütze, Wilhelm-Wester-Weg 1A, 52349 Düren
END:VEVENT
BEGIN:VEVENT
DTSTAMP:20260422T121227
DTSTART;TZID=Europe/Berlin:20261201T100000
DTEND;TZID=Europe/Berlin:20261201T113000
UID:F263-16-01-20261201T100000@FBSDÜREN
SUMMARY:Eltern-Kind-Gruppe "Krabbelkäfer" 6-18 Monate (F263-16-01) 
LOCATION:Mütze, Wilhelm-Wester-Weg 1A, 52349 Düren
END:VEVENT
BEGIN:VEVENT
DTSTAMP:20260422T121227
DTSTART;TZID=Europe/Berlin:20261208T100000
DTEND;TZID=Europe/Berlin:20261208T113000
UID:F263-16-01-20261208T100000@FBSDÜREN
SUMMARY:Eltern-Kind-Gruppe "Krabbelkäfer" 6-18 Monate (F263-16-01) 
LOCATION:Mütze, Wilhelm-Wester-Weg 1A, 52349 Düren
END:VEVENT
BEGIN:VEVENT
DTSTAMP:20260422T121227
DTSTART;TZID=Europe/Berlin:20261215T100000
DTEND;TZID=Europe/Berlin:20261215T113000
UID:F263-16-01-20261215T100000@FBSDÜREN
SUMMARY:Eltern-Kind-Gruppe "Krabbelkäfer" 6-18 Monate (F263-16-01) 
LOCATION:Mütze, Wilhelm-Wester-Weg 1A, 52349 Düren
END:VEVENT
END:VCALENDAR