BEGIN:VCALENDAR
VERSION:2.0
PRODID:http://www.kufer.de/kuferweb / DE
METHOD:PUBLISH
CALSCALE:GREGORIAN
X-WR-TIMEZONE:Europe/Berlin
BEGIN:VTIMEZONE
TZID:Europe/Berlin
X-LIC-LOCATION:Europe/Berlin
BEGIN:DAYLIGHT
TZOFFSETFROM:+0100
TZOFFSETTO:+0200
TZNAME:CEST
DTSTART;TZID=Europe/Berlin:19700329T020000
RRULE:FREQ=YEARLY;INTERVAL=1;BYDAY=-1SU;BYMONTH=3
END:DAYLIGHT
BEGIN:STANDARD
TZOFFSETFROM:+0200
TZOFFSETTO:+0100
TZNAME:CET
DTSTART;TZID=Europe/Berlin:19701025T030000
RRULE:FREQ=YEARLY;INTERVAL=1;BYDAY=-1SU;BYMONTH=10
END:STANDARD
END:VTIMEZONE
BEGIN:VEVENT
DTSTAMP:20260424T151533
DTSTART;TZID=Europe/Berlin:20260720T160000
DTEND;TZID=Europe/Berlin:20260720T164500
UID:F262-17-17-20260720T160000@FBSDÜREN
SUMMARY:Sommerferien: Eltern-Kind-Turnen 2 bis 5 Jahre (F262-17-17) 
LOCATION:Gymnastikhalle, Wilhelm-Wester-Weg 1A, 52349 Düren
END:VEVENT
BEGIN:VEVENT
DTSTAMP:20260424T151533
DTSTART;TZID=Europe/Berlin:20260727T160000
DTEND;TZID=Europe/Berlin:20260727T164500
UID:F262-17-17-20260727T160000@FBSDÜREN
SUMMARY:Sommerferien: Eltern-Kind-Turnen 2 bis 5 Jahre (F262-17-17) 
LOCATION:Gymnastikhalle, Wilhelm-Wester-Weg 1A, 52349 Düren
END:VEVENT
BEGIN:VEVENT
DTSTAMP:20260424T151533
DTSTART;TZID=Europe/Berlin:20260803T160000
DTEND;TZID=Europe/Berlin:20260803T164500
UID:F262-17-17-20260803T160000@FBSDÜREN
SUMMARY:Sommerferien: Eltern-Kind-Turnen 2 bis 5 Jahre (F262-17-17) 
LOCATION:Gymnastikhalle, Wilhelm-Wester-Weg 1A, 52349 Düren
END:VEVENT
BEGIN:VEVENT
DTSTAMP:20260424T151533
DTSTART;TZID=Europe/Berlin:20260810T160000
DTEND;TZID=Europe/Berlin:20260810T164500
UID:F262-17-17-20260810T160000@FBSDÜREN
SUMMARY:Sommerferien: Eltern-Kind-Turnen 2 bis 5 Jahre (F262-17-17) 
LOCATION:Gymnastikhalle, Wilhelm-Wester-Weg 1A, 52349 Düren
END:VEVENT
BEGIN:VEVENT
DTSTAMP:20260424T151533
DTSTART;TZID=Europe/Berlin:20260817T160000
DTEND;TZID=Europe/Berlin:20260817T164500
UID:F262-17-17-20260817T160000@FBSDÜREN
SUMMARY:Sommerferien: Eltern-Kind-Turnen 2 bis 5 Jahre (F262-17-17) 
LOCATION:Gymnastikhalle, Wilhelm-Wester-Weg 1A, 52349 Düren
END:VEVENT
BEGIN:VEVENT
DTSTAMP:20260424T151533
DTSTART;TZID=Europe/Berlin:20260824T160000
DTEND;TZID=Europe/Berlin:20260824T164500
UID:F262-17-17-20260824T160000@FBSDÜREN
SUMMARY:Sommerferien: Eltern-Kind-Turnen 2 bis 5 Jahre (F262-17-17) 
LOCATION:Gymnastikhalle, Wilhelm-Wester-Weg 1A, 52349 Düren
END:VEVENT
BEGIN:VEVENT
DTSTAMP:20260424T151533
DTSTART;TZID=Europe/Berlin:20260831T160000
DTEND;TZID=Europe/Berlin:20260831T164500
UID:F262-17-17-20260831T160000@FBSDÜREN
SUMMARY:Sommerferien: Eltern-Kind-Turnen 2 bis 5 Jahre (F262-17-17) 
LOCATION:Gymnastikhalle, Wilhelm-Wester-Weg 1A, 52349 Düren
END:VEVENT
END:VCALENDAR