BEGIN:VCALENDAR
VERSION:2.0
PRODID:http://www.kufer.de/kuferweb / DE
METHOD:PUBLISH
CALSCALE:GREGORIAN
X-WR-TIMEZONE:Europe/Berlin
BEGIN:VTIMEZONE
TZID:Europe/Berlin
X-LIC-LOCATION:Europe/Berlin
BEGIN:DAYLIGHT
TZOFFSETFROM:+0100
TZOFFSETTO:+0200
TZNAME:CEST
DTSTART;TZID=Europe/Berlin:19700329T020000
RRULE:FREQ=YEARLY;INTERVAL=1;BYDAY=-1SU;BYMONTH=3
END:DAYLIGHT
BEGIN:STANDARD
TZOFFSETFROM:+0200
TZOFFSETTO:+0100
TZNAME:CET
DTSTART;TZID=Europe/Berlin:19701025T030000
RRULE:FREQ=YEARLY;INTERVAL=1;BYDAY=-1SU;BYMONTH=10
END:STANDARD
END:VTIMEZONE
BEGIN:VEVENT
DTSTAMP:20260424T151950
DTSTART;TZID=Europe/Berlin:20260720T150000
DTEND;TZID=Europe/Berlin:20260720T154500
UID:F262-17-16-20260720T150000@FBSDÜREN
SUMMARY:Sommerferien: Eltern-Kind-Turnen 2 bis 5 Jahre (F262-17-16) 
LOCATION:Gymnastikhalle, Wilhelm-Wester-Weg 1A, 52349 Düren
END:VEVENT
BEGIN:VEVENT
DTSTAMP:20260424T151950
DTSTART;TZID=Europe/Berlin:20260727T150000
DTEND;TZID=Europe/Berlin:20260727T154500
UID:F262-17-16-20260727T150000@FBSDÜREN
SUMMARY:Sommerferien: Eltern-Kind-Turnen 2 bis 5 Jahre (F262-17-16) 
LOCATION:Gymnastikhalle, Wilhelm-Wester-Weg 1A, 52349 Düren
END:VEVENT
BEGIN:VEVENT
DTSTAMP:20260424T151950
DTSTART;TZID=Europe/Berlin:20260803T150000
DTEND;TZID=Europe/Berlin:20260803T154500
UID:F262-17-16-20260803T150000@FBSDÜREN
SUMMARY:Sommerferien: Eltern-Kind-Turnen 2 bis 5 Jahre (F262-17-16) 
LOCATION:Gymnastikhalle, Wilhelm-Wester-Weg 1A, 52349 Düren
END:VEVENT
BEGIN:VEVENT
DTSTAMP:20260424T151950
DTSTART;TZID=Europe/Berlin:20260810T150000
DTEND;TZID=Europe/Berlin:20260810T154500
UID:F262-17-16-20260810T150000@FBSDÜREN
SUMMARY:Sommerferien: Eltern-Kind-Turnen 2 bis 5 Jahre (F262-17-16) 
LOCATION:Gymnastikhalle, Wilhelm-Wester-Weg 1A, 52349 Düren
END:VEVENT
BEGIN:VEVENT
DTSTAMP:20260424T151950
DTSTART;TZID=Europe/Berlin:20260817T150000
DTEND;TZID=Europe/Berlin:20260817T154500
UID:F262-17-16-20260817T150000@FBSDÜREN
SUMMARY:Sommerferien: Eltern-Kind-Turnen 2 bis 5 Jahre (F262-17-16) 
LOCATION:Gymnastikhalle, Wilhelm-Wester-Weg 1A, 52349 Düren
END:VEVENT
BEGIN:VEVENT
DTSTAMP:20260424T151950
DTSTART;TZID=Europe/Berlin:20260824T150000
DTEND;TZID=Europe/Berlin:20260824T154500
UID:F262-17-16-20260824T150000@FBSDÜREN
SUMMARY:Sommerferien: Eltern-Kind-Turnen 2 bis 5 Jahre (F262-17-16) 
LOCATION:Gymnastikhalle, Wilhelm-Wester-Weg 1A, 52349 Düren
END:VEVENT
BEGIN:VEVENT
DTSTAMP:20260424T151950
DTSTART;TZID=Europe/Berlin:20260831T150000
DTEND;TZID=Europe/Berlin:20260831T154500
UID:F262-17-16-20260831T150000@FBSDÜREN
SUMMARY:Sommerferien: Eltern-Kind-Turnen 2 bis 5 Jahre (F262-17-16) 
LOCATION:Gymnastikhalle, Wilhelm-Wester-Weg 1A, 52349 Düren
END:VEVENT
END:VCALENDAR