BEGIN:VCALENDAR
VERSION:2.0
PRODID:http://www.kufer.de/kuferweb / DE
METHOD:PUBLISH
CALSCALE:GREGORIAN
X-WR-TIMEZONE:Europe/Berlin
BEGIN:VTIMEZONE
TZID:Europe/Berlin
X-LIC-LOCATION:Europe/Berlin
BEGIN:DAYLIGHT
TZOFFSETFROM:+0100
TZOFFSETTO:+0200
TZNAME:CEST
DTSTART;TZID=Europe/Berlin:19700329T020000
RRULE:FREQ=YEARLY;INTERVAL=1;BYDAY=-1SU;BYMONTH=3
END:DAYLIGHT
BEGIN:STANDARD
TZOFFSETFROM:+0200
TZOFFSETTO:+0100
TZNAME:CET
DTSTART;TZID=Europe/Berlin:19701025T030000
RRULE:FREQ=YEARLY;INTERVAL=1;BYDAY=-1SU;BYMONTH=10
END:STANDARD
END:VTIMEZONE
BEGIN:VEVENT
DTSTAMP:20260424T151606
DTSTART;TZID=Europe/Berlin:20260416T151500
DTEND;TZID=Europe/Berlin:20260416T160000
UID:F262-17-13-20260416T151500@FBSDÜREN
SUMMARY:Eltern-Kind-Turnen 2 bis 5 Jahre (F262-17-13) 
LOCATION:Gymnastikhalle, Wilhelm-Wester-Weg 1A, 52349 Düren
END:VEVENT
BEGIN:VEVENT
DTSTAMP:20260424T151606
DTSTART;TZID=Europe/Berlin:20260423T151500
DTEND;TZID=Europe/Berlin:20260423T160000
UID:F262-17-13-20260423T151500@FBSDÜREN
SUMMARY:Eltern-Kind-Turnen 2 bis 5 Jahre (F262-17-13) 
LOCATION:Gymnastikhalle, Wilhelm-Wester-Weg 1A, 52349 Düren
END:VEVENT
BEGIN:VEVENT
DTSTAMP:20260424T151606
DTSTART;TZID=Europe/Berlin:20260430T151500
DTEND;TZID=Europe/Berlin:20260430T160000
UID:F262-17-13-20260430T151500@FBSDÜREN
SUMMARY:Eltern-Kind-Turnen 2 bis 5 Jahre (F262-17-13) 
LOCATION:Gymnastikhalle, Wilhelm-Wester-Weg 1A, 52349 Düren
END:VEVENT
BEGIN:VEVENT
DTSTAMP:20260424T151606
DTSTART;TZID=Europe/Berlin:20260507T151500
DTEND;TZID=Europe/Berlin:20260507T160000
UID:F262-17-13-20260507T151500@FBSDÜREN
SUMMARY:Eltern-Kind-Turnen 2 bis 5 Jahre (F262-17-13) 
LOCATION:Gymnastikhalle, Wilhelm-Wester-Weg 1A, 52349 Düren
END:VEVENT
BEGIN:VEVENT
DTSTAMP:20260424T151606
DTSTART;TZID=Europe/Berlin:20260521T151500
DTEND;TZID=Europe/Berlin:20260521T160000
UID:F262-17-13-20260521T151500@FBSDÜREN
SUMMARY:Eltern-Kind-Turnen 2 bis 5 Jahre (F262-17-13) 
LOCATION:Gymnastikhalle, Wilhelm-Wester-Weg 1A, 52349 Düren
END:VEVENT
BEGIN:VEVENT
DTSTAMP:20260424T151606
DTSTART;TZID=Europe/Berlin:20260528T151500
DTEND;TZID=Europe/Berlin:20260528T160000
UID:F262-17-13-20260528T151500@FBSDÜREN
SUMMARY:Eltern-Kind-Turnen 2 bis 5 Jahre (F262-17-13) 
LOCATION:Gymnastikhalle, Wilhelm-Wester-Weg 1A, 52349 Düren
END:VEVENT
BEGIN:VEVENT
DTSTAMP:20260424T151606
DTSTART;TZID=Europe/Berlin:20260611T151500
DTEND;TZID=Europe/Berlin:20260611T160000
UID:F262-17-13-20260611T151500@FBSDÜREN
SUMMARY:Eltern-Kind-Turnen 2 bis 5 Jahre (F262-17-13) 
LOCATION:Gymnastikhalle, Wilhelm-Wester-Weg 1A, 52349 Düren
END:VEVENT
BEGIN:VEVENT
DTSTAMP:20260424T151606
DTSTART;TZID=Europe/Berlin:20260618T151500
DTEND;TZID=Europe/Berlin:20260618T160000
UID:F262-17-13-20260618T151500@FBSDÜREN
SUMMARY:Eltern-Kind-Turnen 2 bis 5 Jahre (F262-17-13) 
LOCATION:Gymnastikhalle, Wilhelm-Wester-Weg 1A, 52349 Düren
END:VEVENT
BEGIN:VEVENT
DTSTAMP:20260424T151606
DTSTART;TZID=Europe/Berlin:20260625T151500
DTEND;TZID=Europe/Berlin:20260625T160000
UID:F262-17-13-20260625T151500@FBSDÜREN
SUMMARY:Eltern-Kind-Turnen 2 bis 5 Jahre (F262-17-13) 
LOCATION:Gymnastikhalle, Wilhelm-Wester-Weg 1A, 52349 Düren
END:VEVENT
BEGIN:VEVENT
DTSTAMP:20260424T151606
DTSTART;TZID=Europe/Berlin:20260702T151500
DTEND;TZID=Europe/Berlin:20260702T160000
UID:F262-17-13-20260702T151500@FBSDÜREN
SUMMARY:Eltern-Kind-Turnen 2 bis 5 Jahre (F262-17-13) 
LOCATION:Gymnastikhalle, Wilhelm-Wester-Weg 1A, 52349 Düren
END:VEVENT
BEGIN:VEVENT
DTSTAMP:20260424T151606
DTSTART;TZID=Europe/Berlin:20260709T151500
DTEND;TZID=Europe/Berlin:20260709T160000
UID:F262-17-13-20260709T151500@FBSDÜREN
SUMMARY:Eltern-Kind-Turnen 2 bis 5 Jahre (F262-17-13) 
LOCATION:Gymnastikhalle, Wilhelm-Wester-Weg 1A, 52349 Düren
END:VEVENT
BEGIN:VEVENT
DTSTAMP:20260424T151606
DTSTART;TZID=Europe/Berlin:20260716T151500
DTEND;TZID=Europe/Berlin:20260716T160000
UID:F262-17-13-20260716T151500@FBSDÜREN
SUMMARY:Eltern-Kind-Turnen 2 bis 5 Jahre (F262-17-13) 
LOCATION:Gymnastikhalle, Wilhelm-Wester-Weg 1A, 52349 Düren
END:VEVENT
END:VCALENDAR