BEGIN:VCALENDAR
VERSION:2.0
PRODID:http://www.kufer.de/kuferweb / DE
METHOD:PUBLISH
CALSCALE:GREGORIAN
X-WR-TIMEZONE:Europe/Berlin
BEGIN:VTIMEZONE
TZID:Europe/Berlin
X-LIC-LOCATION:Europe/Berlin
BEGIN:DAYLIGHT
TZOFFSETFROM:+0100
TZOFFSETTO:+0200
TZNAME:CEST
DTSTART;TZID=Europe/Berlin:19700329T020000
RRULE:FREQ=YEARLY;INTERVAL=1;BYDAY=-1SU;BYMONTH=3
END:DAYLIGHT
BEGIN:STANDARD
TZOFFSETFROM:+0200
TZOFFSETTO:+0100
TZNAME:CET
DTSTART;TZID=Europe/Berlin:19701025T030000
RRULE:FREQ=YEARLY;INTERVAL=1;BYDAY=-1SU;BYMONTH=10
END:STANDARD
END:VTIMEZONE
BEGIN:VEVENT
DTSTAMP:20260421T003635
DTSTART;TZID=Europe/Berlin:20260413T090000
DTEND;TZID=Europe/Berlin:20260413T094500
UID:F262-17-01-20260413T090000@FBSDÜREN
SUMMARY:Babyschwimmen 6 - 12Monate (Obermaubach) (F262-17-01) 
LOCATION:Lehrschwimmbecken Obermaubach, Hinter den Gärten, 52372 Kreuzau (Obermaubach)
END:VEVENT
BEGIN:VEVENT
DTSTAMP:20260421T003635
DTSTART;TZID=Europe/Berlin:20260420T090000
DTEND;TZID=Europe/Berlin:20260420T094500
UID:F262-17-01-20260420T090000@FBSDÜREN
SUMMARY:Babyschwimmen 6 - 12Monate (Obermaubach) (F262-17-01) 
LOCATION:Lehrschwimmbecken Obermaubach, Hinter den Gärten, 52372 Kreuzau (Obermaubach)
END:VEVENT
BEGIN:VEVENT
DTSTAMP:20260421T003635
DTSTART;TZID=Europe/Berlin:20260427T090000
DTEND;TZID=Europe/Berlin:20260427T094500
UID:F262-17-01-20260427T090000@FBSDÜREN
SUMMARY:Babyschwimmen 6 - 12Monate (Obermaubach) (F262-17-01) 
LOCATION:Lehrschwimmbecken Obermaubach, Hinter den Gärten, 52372 Kreuzau (Obermaubach)
END:VEVENT
BEGIN:VEVENT
DTSTAMP:20260421T003635
DTSTART;TZID=Europe/Berlin:20260504T090000
DTEND;TZID=Europe/Berlin:20260504T094500
UID:F262-17-01-20260504T090000@FBSDÜREN
SUMMARY:Babyschwimmen 6 - 12Monate (Obermaubach) (F262-17-01) 
LOCATION:Lehrschwimmbecken Obermaubach, Hinter den Gärten, 52372 Kreuzau (Obermaubach)
END:VEVENT
BEGIN:VEVENT
DTSTAMP:20260421T003635
DTSTART;TZID=Europe/Berlin:20260511T090000
DTEND;TZID=Europe/Berlin:20260511T094500
UID:F262-17-01-20260511T090000@FBSDÜREN
SUMMARY:Babyschwimmen 6 - 12Monate (Obermaubach) (F262-17-01) 
LOCATION:Lehrschwimmbecken Obermaubach, Hinter den Gärten, 52372 Kreuzau (Obermaubach)
END:VEVENT
BEGIN:VEVENT
DTSTAMP:20260421T003635
DTSTART;TZID=Europe/Berlin:20260518T090000
DTEND;TZID=Europe/Berlin:20260518T094500
UID:F262-17-01-20260518T090000@FBSDÜREN
SUMMARY:Babyschwimmen 6 - 12Monate (Obermaubach) (F262-17-01) 
LOCATION:Lehrschwimmbecken Obermaubach, Hinter den Gärten, 52372 Kreuzau (Obermaubach)
END:VEVENT
BEGIN:VEVENT
DTSTAMP:20260421T003635
DTSTART;TZID=Europe/Berlin:20260601T090000
DTEND;TZID=Europe/Berlin:20260601T094500
UID:F262-17-01-20260601T090000@FBSDÜREN
SUMMARY:Babyschwimmen 6 - 12Monate (Obermaubach) (F262-17-01) 
LOCATION:Lehrschwimmbecken Obermaubach, Hinter den Gärten, 52372 Kreuzau (Obermaubach)
END:VEVENT
BEGIN:VEVENT
DTSTAMP:20260421T003635
DTSTART;TZID=Europe/Berlin:20260608T090000
DTEND;TZID=Europe/Berlin:20260608T094500
UID:F262-17-01-20260608T090000@FBSDÜREN
SUMMARY:Babyschwimmen 6 - 12Monate (Obermaubach) (F262-17-01) 
LOCATION:Lehrschwimmbecken Obermaubach, Hinter den Gärten, 52372 Kreuzau (Obermaubach)
END:VEVENT
BEGIN:VEVENT
DTSTAMP:20260421T003635
DTSTART;TZID=Europe/Berlin:20260615T090000
DTEND;TZID=Europe/Berlin:20260615T094500
UID:F262-17-01-20260615T090000@FBSDÜREN
SUMMARY:Babyschwimmen 6 - 12Monate (Obermaubach) (F262-17-01) 
LOCATION:Lehrschwimmbecken Obermaubach, Hinter den Gärten, 52372 Kreuzau (Obermaubach)
END:VEVENT
BEGIN:VEVENT
DTSTAMP:20260421T003635
DTSTART;TZID=Europe/Berlin:20260622T090000
DTEND;TZID=Europe/Berlin:20260622T094500
UID:F262-17-01-20260622T090000@FBSDÜREN
SUMMARY:Babyschwimmen 6 - 12Monate (Obermaubach) (F262-17-01) 
LOCATION:Lehrschwimmbecken Obermaubach, Hinter den Gärten, 52372 Kreuzau (Obermaubach)
END:VEVENT
BEGIN:VEVENT
DTSTAMP:20260421T003635
DTSTART;TZID=Europe/Berlin:20260629T090000
DTEND;TZID=Europe/Berlin:20260629T094500
UID:F262-17-01-20260629T090000@FBSDÜREN
SUMMARY:Babyschwimmen 6 - 12Monate (Obermaubach) (F262-17-01) 
LOCATION:Lehrschwimmbecken Obermaubach, Hinter den Gärten, 52372 Kreuzau (Obermaubach)
END:VEVENT
BEGIN:VEVENT
DTSTAMP:20260421T003635
DTSTART;TZID=Europe/Berlin:20260706T090000
DTEND;TZID=Europe/Berlin:20260706T094500
UID:F262-17-01-20260706T090000@FBSDÜREN
SUMMARY:Babyschwimmen 6 - 12Monate (Obermaubach) (F262-17-01) 
LOCATION:Lehrschwimmbecken Obermaubach, Hinter den Gärten, 52372 Kreuzau (Obermaubach)
END:VEVENT
BEGIN:VEVENT
DTSTAMP:20260421T003635
DTSTART;TZID=Europe/Berlin:20260713T090000
DTEND;TZID=Europe/Berlin:20260713T094500
UID:F262-17-01-20260713T090000@FBSDÜREN
SUMMARY:Babyschwimmen 6 - 12Monate (Obermaubach) (F262-17-01) 
LOCATION:Lehrschwimmbecken Obermaubach, Hinter den Gärten, 52372 Kreuzau (Obermaubach)
END:VEVENT
END:VCALENDAR