BEGIN:VCALENDAR
VERSION:2.0
PRODID:http://www.kufer.de/kuferweb / DE
METHOD:PUBLISH
CALSCALE:GREGORIAN
X-WR-TIMEZONE:Europe/Berlin
BEGIN:VTIMEZONE
TZID:Europe/Berlin
X-LIC-LOCATION:Europe/Berlin
BEGIN:DAYLIGHT
TZOFFSETFROM:+0100
TZOFFSETTO:+0200
TZNAME:CEST
DTSTART;TZID=Europe/Berlin:19700329T020000
RRULE:FREQ=YEARLY;INTERVAL=1;BYDAY=-1SU;BYMONTH=3
END:DAYLIGHT
BEGIN:STANDARD
TZOFFSETFROM:+0200
TZOFFSETTO:+0100
TZNAME:CET
DTSTART;TZID=Europe/Berlin:19701025T030000
RRULE:FREQ=YEARLY;INTERVAL=1;BYDAY=-1SU;BYMONTH=10
END:STANDARD
END:VTIMEZONE
BEGIN:VEVENT
DTSTAMP:20260421T120806
DTSTART;TZID=Europe/Berlin:20260416T100000
DTEND;TZID=Europe/Berlin:20260416T113000
UID:F262-16-09-20260416T100000@FBSDÜREN
SUMMARY:Eltern-Kind-Gruppe "Mini-Mäuse" ab 1 Jahr (F262-16-09) 
LOCATION:Gemeindehaus Merzenich, Severin-Böhr-Str. 15, 52399 Merzenich
END:VEVENT
BEGIN:VEVENT
DTSTAMP:20260421T120806
DTSTART;TZID=Europe/Berlin:20260430T100000
DTEND;TZID=Europe/Berlin:20260430T113000
UID:F262-16-09-20260430T100000@FBSDÜREN
SUMMARY:Eltern-Kind-Gruppe "Mini-Mäuse" ab 1 Jahr (F262-16-09) 
LOCATION:Gemeindehaus Merzenich, Severin-Böhr-Str. 15, 52399 Merzenich
END:VEVENT
BEGIN:VEVENT
DTSTAMP:20260421T120806
DTSTART;TZID=Europe/Berlin:20260507T100000
DTEND;TZID=Europe/Berlin:20260507T113000
UID:F262-16-09-20260507T100000@FBSDÜREN
SUMMARY:Eltern-Kind-Gruppe "Mini-Mäuse" ab 1 Jahr (F262-16-09) 
LOCATION:Gemeindehaus Merzenich, Severin-Böhr-Str. 15, 52399 Merzenich
END:VEVENT
BEGIN:VEVENT
DTSTAMP:20260421T120806
DTSTART;TZID=Europe/Berlin:20260521T100000
DTEND;TZID=Europe/Berlin:20260521T113000
UID:F262-16-09-20260521T100000@FBSDÜREN
SUMMARY:Eltern-Kind-Gruppe "Mini-Mäuse" ab 1 Jahr (F262-16-09) 
LOCATION:Gemeindehaus Merzenich, Severin-Böhr-Str. 15, 52399 Merzenich
END:VEVENT
BEGIN:VEVENT
DTSTAMP:20260421T120806
DTSTART;TZID=Europe/Berlin:20260528T100000
DTEND;TZID=Europe/Berlin:20260528T113000
UID:F262-16-09-20260528T100000@FBSDÜREN
SUMMARY:Eltern-Kind-Gruppe "Mini-Mäuse" ab 1 Jahr (F262-16-09) 
LOCATION:Gemeindehaus Merzenich, Severin-Böhr-Str. 15, 52399 Merzenich
END:VEVENT
BEGIN:VEVENT
DTSTAMP:20260421T120806
DTSTART;TZID=Europe/Berlin:20260611T100000
DTEND;TZID=Europe/Berlin:20260611T113000
UID:F262-16-09-20260611T100000@FBSDÜREN
SUMMARY:Eltern-Kind-Gruppe "Mini-Mäuse" ab 1 Jahr (F262-16-09) 
LOCATION:Gemeindehaus Merzenich, Severin-Böhr-Str. 15, 52399 Merzenich
END:VEVENT
BEGIN:VEVENT
DTSTAMP:20260421T120806
DTSTART;TZID=Europe/Berlin:20260618T100000
DTEND;TZID=Europe/Berlin:20260618T113000
UID:F262-16-09-20260618T100000@FBSDÜREN
SUMMARY:Eltern-Kind-Gruppe "Mini-Mäuse" ab 1 Jahr (F262-16-09) 
LOCATION:Gemeindehaus Merzenich, Severin-Böhr-Str. 15, 52399 Merzenich
END:VEVENT
BEGIN:VEVENT
DTSTAMP:20260421T120806
DTSTART;TZID=Europe/Berlin:20260625T100000
DTEND;TZID=Europe/Berlin:20260625T113000
UID:F262-16-09-20260625T100000@FBSDÜREN
SUMMARY:Eltern-Kind-Gruppe "Mini-Mäuse" ab 1 Jahr (F262-16-09) 
LOCATION:Gemeindehaus Merzenich, Severin-Böhr-Str. 15, 52399 Merzenich
END:VEVENT
BEGIN:VEVENT
DTSTAMP:20260421T120806
DTSTART;TZID=Europe/Berlin:20260709T100000
DTEND;TZID=Europe/Berlin:20260709T113000
UID:F262-16-09-20260709T100000@FBSDÜREN
SUMMARY:Eltern-Kind-Gruppe "Mini-Mäuse" ab 1 Jahr (F262-16-09) 
LOCATION:Gemeindehaus Merzenich, Severin-Böhr-Str. 15, 52399 Merzenich
END:VEVENT
BEGIN:VEVENT
DTSTAMP:20260421T120806
DTSTART;TZID=Europe/Berlin:20260716T100000
DTEND;TZID=Europe/Berlin:20260716T113000
UID:F262-16-09-20260716T100000@FBSDÜREN
SUMMARY:Eltern-Kind-Gruppe "Mini-Mäuse" ab 1 Jahr (F262-16-09) 
LOCATION:Gemeindehaus Merzenich, Severin-Böhr-Str. 15, 52399 Merzenich
END:VEVENT
END:VCALENDAR