BEGIN:VCALENDAR
VERSION:2.0
PRODID:http://www.kufer.de/kuferweb / DE
METHOD:PUBLISH
CALSCALE:GREGORIAN
X-WR-TIMEZONE:Europe/Berlin
BEGIN:VTIMEZONE
TZID:Europe/Berlin
X-LIC-LOCATION:Europe/Berlin
BEGIN:DAYLIGHT
TZOFFSETFROM:+0100
TZOFFSETTO:+0200
TZNAME:CEST
DTSTART;TZID=Europe/Berlin:19700329T020000
RRULE:FREQ=YEARLY;INTERVAL=1;BYDAY=-1SU;BYMONTH=3
END:DAYLIGHT
BEGIN:STANDARD
TZOFFSETFROM:+0200
TZOFFSETTO:+0100
TZNAME:CET
DTSTART;TZID=Europe/Berlin:19701025T030000
RRULE:FREQ=YEARLY;INTERVAL=1;BYDAY=-1SU;BYMONTH=10
END:STANDARD
END:VTIMEZONE
BEGIN:VEVENT
DTSTAMP:20260419T143113
DTSTART;TZID=Europe/Berlin:20260113T160000
DTEND;TZID=Europe/Berlin:20260113T170000
UID:24C7-81-21-20260113T160000@FBSDÜREN
SUMMARY:Selbstverteidigung für Senioren (24C7-81-21) 
LOCATION:Gymnastikhalle, Wilhelm-Wester-Weg 1A, 52349 Düren
END:VEVENT
BEGIN:VEVENT
DTSTAMP:20260419T143113
DTSTART;TZID=Europe/Berlin:20260120T160000
DTEND;TZID=Europe/Berlin:20260120T170000
UID:24C7-81-21-20260120T160000@FBSDÜREN
SUMMARY:Selbstverteidigung für Senioren (24C7-81-21) 
LOCATION:Gymnastikhalle, Wilhelm-Wester-Weg 1A, 52349 Düren
END:VEVENT
BEGIN:VEVENT
DTSTAMP:20260419T143113
DTSTART;TZID=Europe/Berlin:20260127T160000
DTEND;TZID=Europe/Berlin:20260127T170000
UID:24C7-81-21-20260127T160000@FBSDÜREN
SUMMARY:Selbstverteidigung für Senioren (24C7-81-21) 
LOCATION:Gymnastikhalle, Wilhelm-Wester-Weg 1A, 52349 Düren
END:VEVENT
BEGIN:VEVENT
DTSTAMP:20260419T143113
DTSTART;TZID=Europe/Berlin:20260203T160000
DTEND;TZID=Europe/Berlin:20260203T170000
UID:24C7-81-21-20260203T160000@FBSDÜREN
SUMMARY:Selbstverteidigung für Senioren (24C7-81-21) 
LOCATION:Gymnastikhalle, Wilhelm-Wester-Weg 1A, 52349 Düren
END:VEVENT
BEGIN:VEVENT
DTSTAMP:20260419T143113
DTSTART;TZID=Europe/Berlin:20260210T160000
DTEND;TZID=Europe/Berlin:20260210T170000
UID:24C7-81-21-20260210T160000@FBSDÜREN
SUMMARY:Selbstverteidigung für Senioren (24C7-81-21) 
LOCATION:Gymnastikhalle, Wilhelm-Wester-Weg 1A, 52349 Düren
END:VEVENT
BEGIN:VEVENT
DTSTAMP:20260419T143113
DTSTART;TZID=Europe/Berlin:20260217T160000
DTEND;TZID=Europe/Berlin:20260217T170000
UID:24C7-81-21-20260217T160000@FBSDÜREN
SUMMARY:Selbstverteidigung für Senioren (24C7-81-21) 
LOCATION:Gymnastikhalle, Wilhelm-Wester-Weg 1A, 52349 Düren
END:VEVENT
BEGIN:VEVENT
DTSTAMP:20260419T143113
DTSTART;TZID=Europe/Berlin:20260224T160000
DTEND;TZID=Europe/Berlin:20260224T170000
UID:24C7-81-21-20260224T160000@FBSDÜREN
SUMMARY:Selbstverteidigung für Senioren (24C7-81-21) 
LOCATION:Gymnastikhalle, Wilhelm-Wester-Weg 1A, 52349 Düren
END:VEVENT
BEGIN:VEVENT
DTSTAMP:20260419T143113
DTSTART;TZID=Europe/Berlin:20260303T160000
DTEND;TZID=Europe/Berlin:20260303T170000
UID:24C7-81-21-20260303T160000@FBSDÜREN
SUMMARY:Selbstverteidigung für Senioren (24C7-81-21) 
LOCATION:Gymnastikhalle, Wilhelm-Wester-Weg 1A, 52349 Düren
END:VEVENT
BEGIN:VEVENT
DTSTAMP:20260419T143113
DTSTART;TZID=Europe/Berlin:20260310T160000
DTEND;TZID=Europe/Berlin:20260310T170000
UID:24C7-81-21-20260310T160000@FBSDÜREN
SUMMARY:Selbstverteidigung für Senioren (24C7-81-21) 
LOCATION:Gymnastikhalle, Wilhelm-Wester-Weg 1A, 52349 Düren
END:VEVENT
BEGIN:VEVENT
DTSTAMP:20260419T143113
DTSTART;TZID=Europe/Berlin:20260317T160000
DTEND;TZID=Europe/Berlin:20260317T170000
UID:24C7-81-21-20260317T160000@FBSDÜREN
SUMMARY:Selbstverteidigung für Senioren (24C7-81-21) 
LOCATION:Gymnastikhalle, Wilhelm-Wester-Weg 1A, 52349 Düren
END:VEVENT
BEGIN:VEVENT
DTSTAMP:20260419T143113
DTSTART;TZID=Europe/Berlin:20260324T160000
DTEND;TZID=Europe/Berlin:20260324T170000
UID:24C7-81-21-20260324T160000@FBSDÜREN
SUMMARY:Selbstverteidigung für Senioren (24C7-81-21) 
LOCATION:Gymnastikhalle, Wilhelm-Wester-Weg 1A, 52349 Düren
END:VEVENT
BEGIN:VEVENT
DTSTAMP:20260419T143113
DTSTART;TZID=Europe/Berlin:20260414T160000
DTEND;TZID=Europe/Berlin:20260414T170000
UID:24C7-81-21-20260414T160000@FBSDÜREN
SUMMARY:Selbstverteidigung für Senioren (24C7-81-21) 
LOCATION:Gymnastikhalle, Wilhelm-Wester-Weg 1A, 52349 Düren
END:VEVENT
BEGIN:VEVENT
DTSTAMP:20260419T143113
DTSTART;TZID=Europe/Berlin:20260421T160000
DTEND;TZID=Europe/Berlin:20260421T170000
UID:24C7-81-21-20260421T160000@FBSDÜREN
SUMMARY:Selbstverteidigung für Senioren (24C7-81-21) 
LOCATION:Gymnastikhalle, Wilhelm-Wester-Weg 1A, 52349 Düren
END:VEVENT
BEGIN:VEVENT
DTSTAMP:20260419T143113
DTSTART;TZID=Europe/Berlin:20260428T160000
DTEND;TZID=Europe/Berlin:20260428T170000
UID:24C7-81-21-20260428T160000@FBSDÜREN
SUMMARY:Selbstverteidigung für Senioren (24C7-81-21) 
LOCATION:Gymnastikhalle, Wilhelm-Wester-Weg 1A, 52349 Düren
END:VEVENT
BEGIN:VEVENT
DTSTAMP:20260419T143113
DTSTART;TZID=Europe/Berlin:20260505T160000
DTEND;TZID=Europe/Berlin:20260505T170000
UID:24C7-81-21-20260505T160000@FBSDÜREN
SUMMARY:Selbstverteidigung für Senioren (24C7-81-21) 
LOCATION:Gymnastikhalle, Wilhelm-Wester-Weg 1A, 52349 Düren
END:VEVENT
BEGIN:VEVENT
DTSTAMP:20260419T143113
DTSTART;TZID=Europe/Berlin:20260512T160000
DTEND;TZID=Europe/Berlin:20260512T170000
UID:24C7-81-21-20260512T160000@FBSDÜREN
SUMMARY:Selbstverteidigung für Senioren (24C7-81-21) 
LOCATION:Gymnastikhalle, Wilhelm-Wester-Weg 1A, 52349 Düren
END:VEVENT
BEGIN:VEVENT
DTSTAMP:20260419T143113
DTSTART;TZID=Europe/Berlin:20260519T160000
DTEND;TZID=Europe/Berlin:20260519T170000
UID:24C7-81-21-20260519T160000@FBSDÜREN
SUMMARY:Selbstverteidigung für Senioren (24C7-81-21) 
LOCATION:Gymnastikhalle, Wilhelm-Wester-Weg 1A, 52349 Düren
END:VEVENT
BEGIN:VEVENT
DTSTAMP:20260419T143113
DTSTART;TZID=Europe/Berlin:20260526T160000
DTEND;TZID=Europe/Berlin:20260526T170000
UID:24C7-81-21-20260526T160000@FBSDÜREN
SUMMARY:Selbstverteidigung für Senioren (24C7-81-21) 
LOCATION:Gymnastikhalle, Wilhelm-Wester-Weg 1A, 52349 Düren
END:VEVENT
BEGIN:VEVENT
DTSTAMP:20260419T143113
DTSTART;TZID=Europe/Berlin:20260602T160000
DTEND;TZID=Europe/Berlin:20260602T170000
UID:24C7-81-21-20260602T160000@FBSDÜREN
SUMMARY:Selbstverteidigung für Senioren (24C7-81-21) 
LOCATION:Gymnastikhalle, Wilhelm-Wester-Weg 1A, 52349 Düren
END:VEVENT
BEGIN:VEVENT
DTSTAMP:20260419T143113
DTSTART;TZID=Europe/Berlin:20260609T160000
DTEND;TZID=Europe/Berlin:20260609T170000
UID:24C7-81-21-20260609T160000@FBSDÜREN
SUMMARY:Selbstverteidigung für Senioren (24C7-81-21) 
LOCATION:Gymnastikhalle, Wilhelm-Wester-Weg 1A, 52349 Düren
END:VEVENT
BEGIN:VEVENT
DTSTAMP:20260419T143113
DTSTART;TZID=Europe/Berlin:20260616T160000
DTEND;TZID=Europe/Berlin:20260616T170000
UID:24C7-81-21-20260616T160000@FBSDÜREN
SUMMARY:Selbstverteidigung für Senioren (24C7-81-21) 
LOCATION:Gymnastikhalle, Wilhelm-Wester-Weg 1A, 52349 Düren
END:VEVENT
BEGIN:VEVENT
DTSTAMP:20260419T143113
DTSTART;TZID=Europe/Berlin:20260623T160000
DTEND;TZID=Europe/Berlin:20260623T170000
UID:24C7-81-21-20260623T160000@FBSDÜREN
SUMMARY:Selbstverteidigung für Senioren (24C7-81-21) 
LOCATION:Gymnastikhalle, Wilhelm-Wester-Weg 1A, 52349 Düren
END:VEVENT
BEGIN:VEVENT
DTSTAMP:20260419T143113
DTSTART;TZID=Europe/Berlin:20260630T160000
DTEND;TZID=Europe/Berlin:20260630T170000
UID:24C7-81-21-20260630T160000@FBSDÜREN
SUMMARY:Selbstverteidigung für Senioren (24C7-81-21) 
LOCATION:Gymnastikhalle, Wilhelm-Wester-Weg 1A, 52349 Düren
END:VEVENT
BEGIN:VEVENT
DTSTAMP:20260419T143113
DTSTART;TZID=Europe/Berlin:20260707T160000
DTEND;TZID=Europe/Berlin:20260707T170000
UID:24C7-81-21-20260707T160000@FBSDÜREN
SUMMARY:Selbstverteidigung für Senioren (24C7-81-21) 
LOCATION:Gymnastikhalle, Wilhelm-Wester-Weg 1A, 52349 Düren
END:VEVENT
BEGIN:VEVENT
DTSTAMP:20260419T143113
DTSTART;TZID=Europe/Berlin:20260714T160000
DTEND;TZID=Europe/Berlin:20260714T170000
UID:24C7-81-21-20260714T160000@FBSDÜREN
SUMMARY:Selbstverteidigung für Senioren (24C7-81-21) 
LOCATION:Gymnastikhalle, Wilhelm-Wester-Weg 1A, 52349 Düren
END:VEVENT
BEGIN:VEVENT
DTSTAMP:20260419T143113
DTSTART;TZID=Europe/Berlin:20260908T160000
DTEND;TZID=Europe/Berlin:20260908T170000
UID:24C7-81-21-20260908T160000@FBSDÜREN
SUMMARY:Selbstverteidigung für Senioren (24C7-81-21) 
LOCATION:Gymnastikhalle, Wilhelm-Wester-Weg 1A, 52349 Düren
END:VEVENT
BEGIN:VEVENT
DTSTAMP:20260419T143113
DTSTART;TZID=Europe/Berlin:20260915T160000
DTEND;TZID=Europe/Berlin:20260915T170000
UID:24C7-81-21-20260915T160000@FBSDÜREN
SUMMARY:Selbstverteidigung für Senioren (24C7-81-21) 
LOCATION:Gymnastikhalle, Wilhelm-Wester-Weg 1A, 52349 Düren
END:VEVENT
BEGIN:VEVENT
DTSTAMP:20260419T143113
DTSTART;TZID=Europe/Berlin:20260922T160000
DTEND;TZID=Europe/Berlin:20260922T170000
UID:24C7-81-21-20260922T160000@FBSDÜREN
SUMMARY:Selbstverteidigung für Senioren (24C7-81-21) 
LOCATION:Gymnastikhalle, Wilhelm-Wester-Weg 1A, 52349 Düren
END:VEVENT
BEGIN:VEVENT
DTSTAMP:20260419T143113
DTSTART;TZID=Europe/Berlin:20260929T160000
DTEND;TZID=Europe/Berlin:20260929T170000
UID:24C7-81-21-20260929T160000@FBSDÜREN
SUMMARY:Selbstverteidigung für Senioren (24C7-81-21) 
LOCATION:Gymnastikhalle, Wilhelm-Wester-Weg 1A, 52349 Düren
END:VEVENT
BEGIN:VEVENT
DTSTAMP:20260419T143113
DTSTART;TZID=Europe/Berlin:20261006T160000
DTEND;TZID=Europe/Berlin:20261006T170000
UID:24C7-81-21-20261006T160000@FBSDÜREN
SUMMARY:Selbstverteidigung für Senioren (24C7-81-21) 
LOCATION:Gymnastikhalle, Wilhelm-Wester-Weg 1A, 52349 Düren
END:VEVENT
BEGIN:VEVENT
DTSTAMP:20260419T143113
DTSTART;TZID=Europe/Berlin:20261103T160000
DTEND;TZID=Europe/Berlin:20261103T170000
UID:24C7-81-21-20261103T160000@FBSDÜREN
SUMMARY:Selbstverteidigung für Senioren (24C7-81-21) 
LOCATION:Gymnastikhalle, Wilhelm-Wester-Weg 1A, 52349 Düren
END:VEVENT
BEGIN:VEVENT
DTSTAMP:20260419T143113
DTSTART;TZID=Europe/Berlin:20261110T160000
DTEND;TZID=Europe/Berlin:20261110T170000
UID:24C7-81-21-20261110T160000@FBSDÜREN
SUMMARY:Selbstverteidigung für Senioren (24C7-81-21) 
LOCATION:Gymnastikhalle, Wilhelm-Wester-Weg 1A, 52349 Düren
END:VEVENT
BEGIN:VEVENT
DTSTAMP:20260419T143113
DTSTART;TZID=Europe/Berlin:20261117T160000
DTEND;TZID=Europe/Berlin:20261117T170000
UID:24C7-81-21-20261117T160000@FBSDÜREN
SUMMARY:Selbstverteidigung für Senioren (24C7-81-21) 
LOCATION:Gymnastikhalle, Wilhelm-Wester-Weg 1A, 52349 Düren
END:VEVENT
BEGIN:VEVENT
DTSTAMP:20260419T143113
DTSTART;TZID=Europe/Berlin:20261124T160000
DTEND;TZID=Europe/Berlin:20261124T170000
UID:24C7-81-21-20261124T160000@FBSDÜREN
SUMMARY:Selbstverteidigung für Senioren (24C7-81-21) 
LOCATION:Gymnastikhalle, Wilhelm-Wester-Weg 1A, 52349 Düren
END:VEVENT
BEGIN:VEVENT
DTSTAMP:20260419T143113
DTSTART;TZID=Europe/Berlin:20261201T160000
DTEND;TZID=Europe/Berlin:20261201T170000
UID:24C7-81-21-20261201T160000@FBSDÜREN
SUMMARY:Selbstverteidigung für Senioren (24C7-81-21) 
LOCATION:Gymnastikhalle, Wilhelm-Wester-Weg 1A, 52349 Düren
END:VEVENT
BEGIN:VEVENT
DTSTAMP:20260419T143113
DTSTART;TZID=Europe/Berlin:20261208T160000
DTEND;TZID=Europe/Berlin:20261208T170000
UID:24C7-81-21-20261208T160000@FBSDÜREN
SUMMARY:Selbstverteidigung für Senioren (24C7-81-21) 
LOCATION:Gymnastikhalle, Wilhelm-Wester-Weg 1A, 52349 Düren
END:VEVENT
BEGIN:VEVENT
DTSTAMP:20260419T143113
DTSTART;TZID=Europe/Berlin:20261215T160000
DTEND;TZID=Europe/Berlin:20261215T170000
UID:24C7-81-21-20261215T160000@FBSDÜREN
SUMMARY:Selbstverteidigung für Senioren (24C7-81-21) 
LOCATION:Gymnastikhalle, Wilhelm-Wester-Weg 1A, 52349 Düren
END:VEVENT
BEGIN:VEVENT
DTSTAMP:20260419T143113
DTSTART;TZID=Europe/Berlin:20261222T160000
DTEND;TZID=Europe/Berlin:20261222T170000
UID:24C7-81-21-20261222T160000@FBSDÜREN
SUMMARY:Selbstverteidigung für Senioren (24C7-81-21) 
LOCATION:Gymnastikhalle, Wilhelm-Wester-Weg 1A, 52349 Düren
END:VEVENT
END:VCALENDAR