BEGIN:VCALENDAR
VERSION:2.0
PRODID:http://www.kufer.de/kuferweb / DE
METHOD:PUBLISH
CALSCALE:GREGORIAN
X-WR-TIMEZONE:Europe/Berlin
BEGIN:VTIMEZONE
TZID:Europe/Berlin
X-LIC-LOCATION:Europe/Berlin
BEGIN:DAYLIGHT
TZOFFSETFROM:+0100
TZOFFSETTO:+0200
TZNAME:CEST
DTSTART;TZID=Europe/Berlin:19700329T020000
RRULE:FREQ=YEARLY;INTERVAL=1;BYDAY=-1SU;BYMONTH=3
END:DAYLIGHT
BEGIN:STANDARD
TZOFFSETFROM:+0200
TZOFFSETTO:+0100
TZNAME:CET
DTSTART;TZID=Europe/Berlin:19701025T030000
RRULE:FREQ=YEARLY;INTERVAL=1;BYDAY=-1SU;BYMONTH=10
END:STANDARD
END:VTIMEZONE
BEGIN:VEVENT
DTSTAMP:20260423T103442
DTSTART;TZID=Europe/Berlin:20260113T150000
DTEND;TZID=Europe/Berlin:20260113T160000
UID:24C7-81-20-20260113T150000@FBSDÜREN
SUMMARY:Fitness für Körper und Geist-Resilienztraining bei Überlastung im Alltag (24C7-81-20) 
LOCATION:Gymnastikhalle, Wilhelm-Wester-Weg 1A, 52349 Düren
END:VEVENT
BEGIN:VEVENT
DTSTAMP:20260423T103442
DTSTART;TZID=Europe/Berlin:20260120T150000
DTEND;TZID=Europe/Berlin:20260120T160000
UID:24C7-81-20-20260120T150000@FBSDÜREN
SUMMARY:Fitness für Körper und Geist-Resilienztraining bei Überlastung im Alltag (24C7-81-20) 
LOCATION:Gymnastikhalle, Wilhelm-Wester-Weg 1A, 52349 Düren
END:VEVENT
BEGIN:VEVENT
DTSTAMP:20260423T103442
DTSTART;TZID=Europe/Berlin:20260127T150000
DTEND;TZID=Europe/Berlin:20260127T160000
UID:24C7-81-20-20260127T150000@FBSDÜREN
SUMMARY:Fitness für Körper und Geist-Resilienztraining bei Überlastung im Alltag (24C7-81-20) 
LOCATION:Gymnastikhalle, Wilhelm-Wester-Weg 1A, 52349 Düren
END:VEVENT
BEGIN:VEVENT
DTSTAMP:20260423T103442
DTSTART;TZID=Europe/Berlin:20260203T150000
DTEND;TZID=Europe/Berlin:20260203T160000
UID:24C7-81-20-20260203T150000@FBSDÜREN
SUMMARY:Fitness für Körper und Geist-Resilienztraining bei Überlastung im Alltag (24C7-81-20) 
LOCATION:Gymnastikhalle, Wilhelm-Wester-Weg 1A, 52349 Düren
END:VEVENT
BEGIN:VEVENT
DTSTAMP:20260423T103442
DTSTART;TZID=Europe/Berlin:20260210T150000
DTEND;TZID=Europe/Berlin:20260210T160000
UID:24C7-81-20-20260210T150000@FBSDÜREN
SUMMARY:Fitness für Körper und Geist-Resilienztraining bei Überlastung im Alltag (24C7-81-20) 
LOCATION:Gymnastikhalle, Wilhelm-Wester-Weg 1A, 52349 Düren
END:VEVENT
BEGIN:VEVENT
DTSTAMP:20260423T103442
DTSTART;TZID=Europe/Berlin:20260217T150000
DTEND;TZID=Europe/Berlin:20260217T160000
UID:24C7-81-20-20260217T150000@FBSDÜREN
SUMMARY:Fitness für Körper und Geist-Resilienztraining bei Überlastung im Alltag (24C7-81-20) 
LOCATION:Gymnastikhalle, Wilhelm-Wester-Weg 1A, 52349 Düren
END:VEVENT
BEGIN:VEVENT
DTSTAMP:20260423T103442
DTSTART;TZID=Europe/Berlin:20260224T150000
DTEND;TZID=Europe/Berlin:20260224T160000
UID:24C7-81-20-20260224T150000@FBSDÜREN
SUMMARY:Fitness für Körper und Geist-Resilienztraining bei Überlastung im Alltag (24C7-81-20) 
LOCATION:Gymnastikhalle, Wilhelm-Wester-Weg 1A, 52349 Düren
END:VEVENT
BEGIN:VEVENT
DTSTAMP:20260423T103442
DTSTART;TZID=Europe/Berlin:20260303T150000
DTEND;TZID=Europe/Berlin:20260303T160000
UID:24C7-81-20-20260303T150000@FBSDÜREN
SUMMARY:Fitness für Körper und Geist-Resilienztraining bei Überlastung im Alltag (24C7-81-20) 
LOCATION:Gymnastikhalle, Wilhelm-Wester-Weg 1A, 52349 Düren
END:VEVENT
BEGIN:VEVENT
DTSTAMP:20260423T103442
DTSTART;TZID=Europe/Berlin:20260310T150000
DTEND;TZID=Europe/Berlin:20260310T160000
UID:24C7-81-20-20260310T150000@FBSDÜREN
SUMMARY:Fitness für Körper und Geist-Resilienztraining bei Überlastung im Alltag (24C7-81-20) 
LOCATION:Gymnastikhalle, Wilhelm-Wester-Weg 1A, 52349 Düren
END:VEVENT
BEGIN:VEVENT
DTSTAMP:20260423T103442
DTSTART;TZID=Europe/Berlin:20260317T150000
DTEND;TZID=Europe/Berlin:20260317T160000
UID:24C7-81-20-20260317T150000@FBSDÜREN
SUMMARY:Fitness für Körper und Geist-Resilienztraining bei Überlastung im Alltag (24C7-81-20) 
LOCATION:Gymnastikhalle, Wilhelm-Wester-Weg 1A, 52349 Düren
END:VEVENT
BEGIN:VEVENT
DTSTAMP:20260423T103442
DTSTART;TZID=Europe/Berlin:20260324T150000
DTEND;TZID=Europe/Berlin:20260324T160000
UID:24C7-81-20-20260324T150000@FBSDÜREN
SUMMARY:Fitness für Körper und Geist-Resilienztraining bei Überlastung im Alltag (24C7-81-20) 
LOCATION:Gymnastikhalle, Wilhelm-Wester-Weg 1A, 52349 Düren
END:VEVENT
BEGIN:VEVENT
DTSTAMP:20260423T103442
DTSTART;TZID=Europe/Berlin:20260414T150000
DTEND;TZID=Europe/Berlin:20260414T160000
UID:24C7-81-20-20260414T150000@FBSDÜREN
SUMMARY:Fitness für Körper und Geist-Resilienztraining bei Überlastung im Alltag (24C7-81-20) 
LOCATION:Gymnastikhalle, Wilhelm-Wester-Weg 1A, 52349 Düren
END:VEVENT
BEGIN:VEVENT
DTSTAMP:20260423T103442
DTSTART;TZID=Europe/Berlin:20260421T150000
DTEND;TZID=Europe/Berlin:20260421T160000
UID:24C7-81-20-20260421T150000@FBSDÜREN
SUMMARY:Fitness für Körper und Geist-Resilienztraining bei Überlastung im Alltag (24C7-81-20) 
LOCATION:Gymnastikhalle, Wilhelm-Wester-Weg 1A, 52349 Düren
END:VEVENT
BEGIN:VEVENT
DTSTAMP:20260423T103442
DTSTART;TZID=Europe/Berlin:20260428T150000
DTEND;TZID=Europe/Berlin:20260428T160000
UID:24C7-81-20-20260428T150000@FBSDÜREN
SUMMARY:Fitness für Körper und Geist-Resilienztraining bei Überlastung im Alltag (24C7-81-20) 
LOCATION:Gymnastikhalle, Wilhelm-Wester-Weg 1A, 52349 Düren
END:VEVENT
BEGIN:VEVENT
DTSTAMP:20260423T103442
DTSTART;TZID=Europe/Berlin:20260505T150000
DTEND;TZID=Europe/Berlin:20260505T160000
UID:24C7-81-20-20260505T150000@FBSDÜREN
SUMMARY:Fitness für Körper und Geist-Resilienztraining bei Überlastung im Alltag (24C7-81-20) 
LOCATION:Gymnastikhalle, Wilhelm-Wester-Weg 1A, 52349 Düren
END:VEVENT
BEGIN:VEVENT
DTSTAMP:20260423T103442
DTSTART;TZID=Europe/Berlin:20260512T150000
DTEND;TZID=Europe/Berlin:20260512T160000
UID:24C7-81-20-20260512T150000@FBSDÜREN
SUMMARY:Fitness für Körper und Geist-Resilienztraining bei Überlastung im Alltag (24C7-81-20) 
LOCATION:Gymnastikhalle, Wilhelm-Wester-Weg 1A, 52349 Düren
END:VEVENT
BEGIN:VEVENT
DTSTAMP:20260423T103442
DTSTART;TZID=Europe/Berlin:20260519T150000
DTEND;TZID=Europe/Berlin:20260519T160000
UID:24C7-81-20-20260519T150000@FBSDÜREN
SUMMARY:Fitness für Körper und Geist-Resilienztraining bei Überlastung im Alltag (24C7-81-20) 
LOCATION:Gymnastikhalle, Wilhelm-Wester-Weg 1A, 52349 Düren
END:VEVENT
BEGIN:VEVENT
DTSTAMP:20260423T103442
DTSTART;TZID=Europe/Berlin:20260526T150000
DTEND;TZID=Europe/Berlin:20260526T160000
UID:24C7-81-20-20260526T150000@FBSDÜREN
SUMMARY:Fitness für Körper und Geist-Resilienztraining bei Überlastung im Alltag (24C7-81-20) 
LOCATION:Gymnastikhalle, Wilhelm-Wester-Weg 1A, 52349 Düren
END:VEVENT
BEGIN:VEVENT
DTSTAMP:20260423T103442
DTSTART;TZID=Europe/Berlin:20260602T150000
DTEND;TZID=Europe/Berlin:20260602T160000
UID:24C7-81-20-20260602T150000@FBSDÜREN
SUMMARY:Fitness für Körper und Geist-Resilienztraining bei Überlastung im Alltag (24C7-81-20) 
LOCATION:Gymnastikhalle, Wilhelm-Wester-Weg 1A, 52349 Düren
END:VEVENT
BEGIN:VEVENT
DTSTAMP:20260423T103442
DTSTART;TZID=Europe/Berlin:20260609T150000
DTEND;TZID=Europe/Berlin:20260609T160000
UID:24C7-81-20-20260609T150000@FBSDÜREN
SUMMARY:Fitness für Körper und Geist-Resilienztraining bei Überlastung im Alltag (24C7-81-20) 
LOCATION:Gymnastikhalle, Wilhelm-Wester-Weg 1A, 52349 Düren
END:VEVENT
BEGIN:VEVENT
DTSTAMP:20260423T103442
DTSTART;TZID=Europe/Berlin:20260616T150000
DTEND;TZID=Europe/Berlin:20260616T160000
UID:24C7-81-20-20260616T150000@FBSDÜREN
SUMMARY:Fitness für Körper und Geist-Resilienztraining bei Überlastung im Alltag (24C7-81-20) 
LOCATION:Gymnastikhalle, Wilhelm-Wester-Weg 1A, 52349 Düren
END:VEVENT
BEGIN:VEVENT
DTSTAMP:20260423T103442
DTSTART;TZID=Europe/Berlin:20260623T150000
DTEND;TZID=Europe/Berlin:20260623T160000
UID:24C7-81-20-20260623T150000@FBSDÜREN
SUMMARY:Fitness für Körper und Geist-Resilienztraining bei Überlastung im Alltag (24C7-81-20) 
LOCATION:Gymnastikhalle, Wilhelm-Wester-Weg 1A, 52349 Düren
END:VEVENT
BEGIN:VEVENT
DTSTAMP:20260423T103442
DTSTART;TZID=Europe/Berlin:20260630T150000
DTEND;TZID=Europe/Berlin:20260630T160000
UID:24C7-81-20-20260630T150000@FBSDÜREN
SUMMARY:Fitness für Körper und Geist-Resilienztraining bei Überlastung im Alltag (24C7-81-20) 
LOCATION:Gymnastikhalle, Wilhelm-Wester-Weg 1A, 52349 Düren
END:VEVENT
BEGIN:VEVENT
DTSTAMP:20260423T103442
DTSTART;TZID=Europe/Berlin:20260707T150000
DTEND;TZID=Europe/Berlin:20260707T160000
UID:24C7-81-20-20260707T150000@FBSDÜREN
SUMMARY:Fitness für Körper und Geist-Resilienztraining bei Überlastung im Alltag (24C7-81-20) 
LOCATION:Gymnastikhalle, Wilhelm-Wester-Weg 1A, 52349 Düren
END:VEVENT
BEGIN:VEVENT
DTSTAMP:20260423T103442
DTSTART;TZID=Europe/Berlin:20260714T150000
DTEND;TZID=Europe/Berlin:20260714T160000
UID:24C7-81-20-20260714T150000@FBSDÜREN
SUMMARY:Fitness für Körper und Geist-Resilienztraining bei Überlastung im Alltag (24C7-81-20) 
LOCATION:Gymnastikhalle, Wilhelm-Wester-Weg 1A, 52349 Düren
END:VEVENT
BEGIN:VEVENT
DTSTAMP:20260423T103442
DTSTART;TZID=Europe/Berlin:20260908T150000
DTEND;TZID=Europe/Berlin:20260908T160000
UID:24C7-81-20-20260908T150000@FBSDÜREN
SUMMARY:Fitness für Körper und Geist-Resilienztraining bei Überlastung im Alltag (24C7-81-20) 
LOCATION:Gymnastikhalle, Wilhelm-Wester-Weg 1A, 52349 Düren
END:VEVENT
BEGIN:VEVENT
DTSTAMP:20260423T103442
DTSTART;TZID=Europe/Berlin:20260915T150000
DTEND;TZID=Europe/Berlin:20260915T160000
UID:24C7-81-20-20260915T150000@FBSDÜREN
SUMMARY:Fitness für Körper und Geist-Resilienztraining bei Überlastung im Alltag (24C7-81-20) 
LOCATION:Gymnastikhalle, Wilhelm-Wester-Weg 1A, 52349 Düren
END:VEVENT
BEGIN:VEVENT
DTSTAMP:20260423T103442
DTSTART;TZID=Europe/Berlin:20260922T150000
DTEND;TZID=Europe/Berlin:20260922T160000
UID:24C7-81-20-20260922T150000@FBSDÜREN
SUMMARY:Fitness für Körper und Geist-Resilienztraining bei Überlastung im Alltag (24C7-81-20) 
LOCATION:Gymnastikhalle, Wilhelm-Wester-Weg 1A, 52349 Düren
END:VEVENT
BEGIN:VEVENT
DTSTAMP:20260423T103442
DTSTART;TZID=Europe/Berlin:20260929T150000
DTEND;TZID=Europe/Berlin:20260929T160000
UID:24C7-81-20-20260929T150000@FBSDÜREN
SUMMARY:Fitness für Körper und Geist-Resilienztraining bei Überlastung im Alltag (24C7-81-20) 
LOCATION:Gymnastikhalle, Wilhelm-Wester-Weg 1A, 52349 Düren
END:VEVENT
BEGIN:VEVENT
DTSTAMP:20260423T103442
DTSTART;TZID=Europe/Berlin:20261006T150000
DTEND;TZID=Europe/Berlin:20261006T160000
UID:24C7-81-20-20261006T150000@FBSDÜREN
SUMMARY:Fitness für Körper und Geist-Resilienztraining bei Überlastung im Alltag (24C7-81-20) 
LOCATION:Gymnastikhalle, Wilhelm-Wester-Weg 1A, 52349 Düren
END:VEVENT
BEGIN:VEVENT
DTSTAMP:20260423T103442
DTSTART;TZID=Europe/Berlin:20261013T150000
DTEND;TZID=Europe/Berlin:20261013T160000
UID:24C7-81-20-20261013T150000@FBSDÜREN
SUMMARY:Fitness für Körper und Geist-Resilienztraining bei Überlastung im Alltag (24C7-81-20) 
LOCATION:Gymnastikhalle, Wilhelm-Wester-Weg 1A, 52349 Düren
END:VEVENT
BEGIN:VEVENT
DTSTAMP:20260423T103442
DTSTART;TZID=Europe/Berlin:20261103T150000
DTEND;TZID=Europe/Berlin:20261103T160000
UID:24C7-81-20-20261103T150000@FBSDÜREN
SUMMARY:Fitness für Körper und Geist-Resilienztraining bei Überlastung im Alltag (24C7-81-20) 
LOCATION:Gymnastikhalle, Wilhelm-Wester-Weg 1A, 52349 Düren
END:VEVENT
BEGIN:VEVENT
DTSTAMP:20260423T103442
DTSTART;TZID=Europe/Berlin:20261110T150000
DTEND;TZID=Europe/Berlin:20261110T160000
UID:24C7-81-20-20261110T150000@FBSDÜREN
SUMMARY:Fitness für Körper und Geist-Resilienztraining bei Überlastung im Alltag (24C7-81-20) 
LOCATION:Gymnastikhalle, Wilhelm-Wester-Weg 1A, 52349 Düren
END:VEVENT
BEGIN:VEVENT
DTSTAMP:20260423T103442
DTSTART;TZID=Europe/Berlin:20261117T150000
DTEND;TZID=Europe/Berlin:20261117T160000
UID:24C7-81-20-20261117T150000@FBSDÜREN
SUMMARY:Fitness für Körper und Geist-Resilienztraining bei Überlastung im Alltag (24C7-81-20) 
LOCATION:Gymnastikhalle, Wilhelm-Wester-Weg 1A, 52349 Düren
END:VEVENT
BEGIN:VEVENT
DTSTAMP:20260423T103442
DTSTART;TZID=Europe/Berlin:20261124T150000
DTEND;TZID=Europe/Berlin:20261124T160000
UID:24C7-81-20-20261124T150000@FBSDÜREN
SUMMARY:Fitness für Körper und Geist-Resilienztraining bei Überlastung im Alltag (24C7-81-20) 
LOCATION:Gymnastikhalle, Wilhelm-Wester-Weg 1A, 52349 Düren
END:VEVENT
BEGIN:VEVENT
DTSTAMP:20260423T103442
DTSTART;TZID=Europe/Berlin:20261201T150000
DTEND;TZID=Europe/Berlin:20261201T160000
UID:24C7-81-20-20261201T150000@FBSDÜREN
SUMMARY:Fitness für Körper und Geist-Resilienztraining bei Überlastung im Alltag (24C7-81-20) 
LOCATION:Gymnastikhalle, Wilhelm-Wester-Weg 1A, 52349 Düren
END:VEVENT
BEGIN:VEVENT
DTSTAMP:20260423T103442
DTSTART;TZID=Europe/Berlin:20261208T150000
DTEND;TZID=Europe/Berlin:20261208T160000
UID:24C7-81-20-20261208T150000@FBSDÜREN
SUMMARY:Fitness für Körper und Geist-Resilienztraining bei Überlastung im Alltag (24C7-81-20) 
LOCATION:Gymnastikhalle, Wilhelm-Wester-Weg 1A, 52349 Düren
END:VEVENT
BEGIN:VEVENT
DTSTAMP:20260423T103442
DTSTART;TZID=Europe/Berlin:20261215T150000
DTEND;TZID=Europe/Berlin:20261215T160000
UID:24C7-81-20-20261215T150000@FBSDÜREN
SUMMARY:Fitness für Körper und Geist-Resilienztraining bei Überlastung im Alltag (24C7-81-20) 
LOCATION:Gymnastikhalle, Wilhelm-Wester-Weg 1A, 52349 Düren
END:VEVENT
BEGIN:VEVENT
DTSTAMP:20260423T103442
DTSTART;TZID=Europe/Berlin:20261222T150000
DTEND;TZID=Europe/Berlin:20261222T160000
UID:24C7-81-20-20261222T150000@FBSDÜREN
SUMMARY:Fitness für Körper und Geist-Resilienztraining bei Überlastung im Alltag (24C7-81-20) 
LOCATION:Gymnastikhalle, Wilhelm-Wester-Weg 1A, 52349 Düren
END:VEVENT
END:VCALENDAR