BEGIN:VCALENDAR
VERSION:2.0
PRODID:http://www.kufer.de/kuferweb / DE
METHOD:PUBLISH
CALSCALE:GREGORIAN
X-WR-TIMEZONE:Europe/Berlin
BEGIN:VTIMEZONE
TZID:Europe/Berlin
X-LIC-LOCATION:Europe/Berlin
BEGIN:DAYLIGHT
TZOFFSETFROM:+0100
TZOFFSETTO:+0200
TZNAME:CEST
DTSTART;TZID=Europe/Berlin:19700329T020000
RRULE:FREQ=YEARLY;INTERVAL=1;BYDAY=-1SU;BYMONTH=3
END:DAYLIGHT
BEGIN:STANDARD
TZOFFSETFROM:+0200
TZOFFSETTO:+0100
TZNAME:CET
DTSTART;TZID=Europe/Berlin:19701025T030000
RRULE:FREQ=YEARLY;INTERVAL=1;BYDAY=-1SU;BYMONTH=10
END:STANDARD
END:VTIMEZONE
BEGIN:VEVENT
DTSTAMP:20260421T103130
DTSTART;TZID=Europe/Berlin:20260109T150000
DTEND;TZID=Europe/Berlin:20260109T180000
UID:24C7-34-01-20260109T150000@FBSDÜREN
SUMMARY:Repair Café in Kreuzau (24C7-34-01) 
LOCATION:Gemeindehaus Kreuzau, Heribertstr. 5, 52372 Kreuzau
END:VEVENT
BEGIN:VEVENT
DTSTAMP:20260421T103130
DTSTART;TZID=Europe/Berlin:20260206T150000
DTEND;TZID=Europe/Berlin:20260206T180000
UID:24C7-34-01-20260206T150000@FBSDÜREN
SUMMARY:Repair Café in Kreuzau (24C7-34-01) 
LOCATION:Gemeindehaus Kreuzau, Heribertstr. 5, 52372 Kreuzau
END:VEVENT
BEGIN:VEVENT
DTSTAMP:20260421T103130
DTSTART;TZID=Europe/Berlin:20260313T150000
DTEND;TZID=Europe/Berlin:20260313T180000
UID:24C7-34-01-20260313T150000@FBSDÜREN
SUMMARY:Repair Café in Kreuzau (24C7-34-01) 
LOCATION:Gemeindehaus Kreuzau, Heribertstr. 5, 52372 Kreuzau
END:VEVENT
BEGIN:VEVENT
DTSTAMP:20260421T103130
DTSTART;TZID=Europe/Berlin:20260417T150000
DTEND;TZID=Europe/Berlin:20260417T180000
UID:24C7-34-01-20260417T150000@FBSDÜREN
SUMMARY:Repair Café in Kreuzau (24C7-34-01) 
LOCATION:Gemeindehaus Kreuzau, Heribertstr. 5, 52372 Kreuzau
END:VEVENT
BEGIN:VEVENT
DTSTAMP:20260421T103130
DTSTART;TZID=Europe/Berlin:20260508T150000
DTEND;TZID=Europe/Berlin:20260508T180000
UID:24C7-34-01-20260508T150000@FBSDÜREN
SUMMARY:Repair Café in Kreuzau (24C7-34-01) 
LOCATION:Gemeindehaus Kreuzau, Heribertstr. 5, 52372 Kreuzau
END:VEVENT
BEGIN:VEVENT
DTSTAMP:20260421T103130
DTSTART;TZID=Europe/Berlin:20260612T150000
DTEND;TZID=Europe/Berlin:20260612T180000
UID:24C7-34-01-20260612T150000@FBSDÜREN
SUMMARY:Repair Café in Kreuzau (24C7-34-01) 
LOCATION:Gemeindehaus Kreuzau, Heribertstr. 5, 52372 Kreuzau
END:VEVENT
BEGIN:VEVENT
DTSTAMP:20260421T103130
DTSTART;TZID=Europe/Berlin:20260710T150000
DTEND;TZID=Europe/Berlin:20260710T180000
UID:24C7-34-01-20260710T150000@FBSDÜREN
SUMMARY:Repair Café in Kreuzau (24C7-34-01) 
LOCATION:Gemeindehaus Kreuzau, Heribertstr. 5, 52372 Kreuzau
END:VEVENT
BEGIN:VEVENT
DTSTAMP:20260421T103130
DTSTART;TZID=Europe/Berlin:20260807T150000
DTEND;TZID=Europe/Berlin:20260807T180000
UID:24C7-34-01-20260807T150000@FBSDÜREN
SUMMARY:Repair Café in Kreuzau (24C7-34-01) 
LOCATION:Gemeindehaus Kreuzau, Heribertstr. 5, 52372 Kreuzau
END:VEVENT
BEGIN:VEVENT
DTSTAMP:20260421T103130
DTSTART;TZID=Europe/Berlin:20260911T150000
DTEND;TZID=Europe/Berlin:20260911T180000
UID:24C7-34-01-20260911T150000@FBSDÜREN
SUMMARY:Repair Café in Kreuzau (24C7-34-01) 
LOCATION:Gemeindehaus Kreuzau, Heribertstr. 5, 52372 Kreuzau
END:VEVENT
BEGIN:VEVENT
DTSTAMP:20260421T103130
DTSTART;TZID=Europe/Berlin:20261009T150000
DTEND;TZID=Europe/Berlin:20261009T180000
UID:24C7-34-01-20261009T150000@FBSDÜREN
SUMMARY:Repair Café in Kreuzau (24C7-34-01) 
LOCATION:Gemeindehaus Kreuzau, Heribertstr. 5, 52372 Kreuzau
END:VEVENT
BEGIN:VEVENT
DTSTAMP:20260421T103130
DTSTART;TZID=Europe/Berlin:20261106T150000
DTEND;TZID=Europe/Berlin:20261106T180000
UID:24C7-34-01-20261106T150000@FBSDÜREN
SUMMARY:Repair Café in Kreuzau (24C7-34-01) 
LOCATION:Gemeindehaus Kreuzau, Heribertstr. 5, 52372 Kreuzau
END:VEVENT
END:VCALENDAR