BEGIN:VCALENDAR
VERSION:2.0
PRODID:http://www.kufer.de/kuferweb / DE
METHOD:PUBLISH
CALSCALE:GREGORIAN
X-WR-TIMEZONE:Europe/Berlin
BEGIN:VTIMEZONE
TZID:Europe/Berlin
X-LIC-LOCATION:Europe/Berlin
BEGIN:DAYLIGHT
TZOFFSETFROM:+0100
TZOFFSETTO:+0200
TZNAME:CEST
DTSTART;TZID=Europe/Berlin:19700329T020000
RRULE:FREQ=YEARLY;INTERVAL=1;BYDAY=-1SU;BYMONTH=3
END:DAYLIGHT
BEGIN:STANDARD
TZOFFSETFROM:+0200
TZOFFSETTO:+0100
TZNAME:CET
DTSTART;TZID=Europe/Berlin:19701025T030000
RRULE:FREQ=YEARLY;INTERVAL=1;BYDAY=-1SU;BYMONTH=10
END:STANDARD
END:VTIMEZONE
BEGIN:VEVENT
DTSTAMP:20260422T103645
DTSTART;TZID=Europe/Berlin:20260903T140000
DTEND;TZID=Europe/Berlin:20260903T180000
UID:24C7-33-01-20260903T140000@FBSDÜREN
SUMMARY:Gartenpädagogik - In der Schöpfung zuhause sein Qualifizierung für ErzieherInnen und andere pädagogische Kräfte (24C7-33-01) 
LOCATION:Gemeindehaus Kreuzau, Heribertstr. 5, 52372 Kreuzau
END:VEVENT
BEGIN:VEVENT
DTSTAMP:20260422T103645
DTSTART;TZID=Europe/Berlin:20261015T140000
DTEND;TZID=Europe/Berlin:20261015T180000
UID:24C7-33-01-20261015T140000@FBSDÜREN
SUMMARY:Gartenpädagogik - In der Schöpfung zuhause sein Qualifizierung für ErzieherInnen und andere pädagogische Kräfte (24C7-33-01) 
LOCATION:Gemeindehaus Kreuzau, Heribertstr. 5, 52372 Kreuzau
END:VEVENT
BEGIN:VEVENT
DTSTAMP:20260422T103645
DTSTART;TZID=Europe/Berlin:20261112T140000
DTEND;TZID=Europe/Berlin:20261112T180000
UID:24C7-33-01-20261112T140000@FBSDÜREN
SUMMARY:Gartenpädagogik - In der Schöpfung zuhause sein Qualifizierung für ErzieherInnen und andere pädagogische Kräfte (24C7-33-01) 
LOCATION:Gemeindehaus Kreuzau, Heribertstr. 5, 52372 Kreuzau
END:VEVENT
BEGIN:VEVENT
DTSTAMP:20260422T103645
DTSTART;TZID=Europe/Berlin:20270114T140000
DTEND;TZID=Europe/Berlin:20270114T180000
UID:24C7-33-01-20270114T140000@FBSDÜREN
SUMMARY:Gartenpädagogik - In der Schöpfung zuhause sein Qualifizierung für ErzieherInnen und andere pädagogische Kräfte (24C7-33-01) 
LOCATION:Gemeindehaus Kreuzau, Heribertstr. 5, 52372 Kreuzau
END:VEVENT
BEGIN:VEVENT
DTSTAMP:20260422T103645
DTSTART;TZID=Europe/Berlin:20270218T140000
DTEND;TZID=Europe/Berlin:20270218T180000
UID:24C7-33-01-20270218T140000@FBSDÜREN
SUMMARY:Gartenpädagogik - In der Schöpfung zuhause sein Qualifizierung für ErzieherInnen und andere pädagogische Kräfte (24C7-33-01) 
LOCATION:Gemeindehaus Kreuzau, Heribertstr. 5, 52372 Kreuzau
END:VEVENT
BEGIN:VEVENT
DTSTAMP:20260422T103645
DTSTART;TZID=Europe/Berlin:20270311T140000
DTEND;TZID=Europe/Berlin:20270311T180000
UID:24C7-33-01-20270311T140000@FBSDÜREN
SUMMARY:Gartenpädagogik - In der Schöpfung zuhause sein Qualifizierung für ErzieherInnen und andere pädagogische Kräfte (24C7-33-01) 
LOCATION:Gemeindehaus Kreuzau, Heribertstr. 5, 52372 Kreuzau
END:VEVENT
BEGIN:VEVENT
DTSTAMP:20260422T103645
DTSTART;TZID=Europe/Berlin:20270415T140000
DTEND;TZID=Europe/Berlin:20270415T180000
UID:24C7-33-01-20270415T140000@FBSDÜREN
SUMMARY:Gartenpädagogik - In der Schöpfung zuhause sein Qualifizierung für ErzieherInnen und andere pädagogische Kräfte (24C7-33-01) 
LOCATION:Gemeindehaus Kreuzau, Heribertstr. 5, 52372 Kreuzau
END:VEVENT
BEGIN:VEVENT
DTSTAMP:20260422T103645
DTSTART;TZID=Europe/Berlin:20270513T140000
DTEND;TZID=Europe/Berlin:20270513T180000
UID:24C7-33-01-20270513T140000@FBSDÜREN
SUMMARY:Gartenpädagogik - In der Schöpfung zuhause sein Qualifizierung für ErzieherInnen und andere pädagogische Kräfte (24C7-33-01) 
LOCATION:Gemeindehaus Kreuzau, Heribertstr. 5, 52372 Kreuzau
END:VEVENT
BEGIN:VEVENT
DTSTAMP:20260422T103645
DTSTART;TZID=Europe/Berlin:20270617T140000
DTEND;TZID=Europe/Berlin:20270617T180000
UID:24C7-33-01-20270617T140000@FBSDÜREN
SUMMARY:Gartenpädagogik - In der Schöpfung zuhause sein Qualifizierung für ErzieherInnen und andere pädagogische Kräfte (24C7-33-01) 
LOCATION:Gemeindehaus Kreuzau, Heribertstr. 5, 52372 Kreuzau
END:VEVENT
BEGIN:VEVENT
DTSTAMP:20260422T103645
DTSTART;TZID=Europe/Berlin:20270708T140000
DTEND;TZID=Europe/Berlin:20270708T180000
UID:24C7-33-01-20270708T140000@FBSDÜREN
SUMMARY:Gartenpädagogik - In der Schöpfung zuhause sein Qualifizierung für ErzieherInnen und andere pädagogische Kräfte (24C7-33-01) 
LOCATION:Gemeindehaus Kreuzau, Heribertstr. 5, 52372 Kreuzau
END:VEVENT
END:VCALENDAR