BEGIN:VCALENDAR
VERSION:2.0
PRODID:http://www.kufer.de/kuferweb / DE
METHOD:PUBLISH
CALSCALE:GREGORIAN
X-WR-TIMEZONE:Europe/Berlin
BEGIN:VTIMEZONE
TZID:Europe/Berlin
X-LIC-LOCATION:Europe/Berlin
BEGIN:DAYLIGHT
TZOFFSETFROM:+0100
TZOFFSETTO:+0200
TZNAME:CEST
DTSTART;TZID=Europe/Berlin:19700329T020000
RRULE:FREQ=YEARLY;INTERVAL=1;BYDAY=-1SU;BYMONTH=3
END:DAYLIGHT
BEGIN:STANDARD
TZOFFSETFROM:+0200
TZOFFSETTO:+0100
TZNAME:CET
DTSTART;TZID=Europe/Berlin:19701025T030000
RRULE:FREQ=YEARLY;INTERVAL=1;BYDAY=-1SU;BYMONTH=10
END:STANDARD
END:VTIMEZONE
BEGIN:VEVENT
DTSTAMP:20260424T120655
DTSTART;TZID=Europe/Berlin:20261107T100000
DTEND;TZID=Europe/Berlin:20261107T121500
UID:24C4-18-02-20261107T100000@FBSDÜREN
SUMMARY:Bauernhofentdecker - samstagvormittags - 6-10 Jahre (24C4-18-02) 
LOCATION:Neuer Hof Bochröder, Stockheimer Landstr. 171, 52351 Düren
END:VEVENT
BEGIN:VEVENT
DTSTAMP:20260424T120655
DTSTART;TZID=Europe/Berlin:20261114T100000
DTEND;TZID=Europe/Berlin:20261114T121500
UID:24C4-18-02-20261114T100000@FBSDÜREN
SUMMARY:Bauernhofentdecker - samstagvormittags - 6-10 Jahre (24C4-18-02) 
LOCATION:Neuer Hof Bochröder, Stockheimer Landstr. 171, 52351 Düren
END:VEVENT
BEGIN:VEVENT
DTSTAMP:20260424T120655
DTSTART;TZID=Europe/Berlin:20261121T100000
DTEND;TZID=Europe/Berlin:20261121T121500
UID:24C4-18-02-20261121T100000@FBSDÜREN
SUMMARY:Bauernhofentdecker - samstagvormittags - 6-10 Jahre (24C4-18-02) 
LOCATION:Neuer Hof Bochröder, Stockheimer Landstr. 171, 52351 Düren
END:VEVENT
BEGIN:VEVENT
DTSTAMP:20260424T120655
DTSTART;TZID=Europe/Berlin:20261128T100000
DTEND;TZID=Europe/Berlin:20261128T121500
UID:24C4-18-02-20261128T100000@FBSDÜREN
SUMMARY:Bauernhofentdecker - samstagvormittags - 6-10 Jahre (24C4-18-02) 
LOCATION:Neuer Hof Bochröder, Stockheimer Landstr. 171, 52351 Düren
END:VEVENT
BEGIN:VEVENT
DTSTAMP:20260424T120655
DTSTART;TZID=Europe/Berlin:20261205T100000
DTEND;TZID=Europe/Berlin:20261205T121500
UID:24C4-18-02-20261205T100000@FBSDÜREN
SUMMARY:Bauernhofentdecker - samstagvormittags - 6-10 Jahre (24C4-18-02) 
LOCATION:Lehrküche, Wilhelm-Wester-Weg 1A, 52349 Düren
END:VEVENT
BEGIN:VEVENT
DTSTAMP:20260424T120655
DTSTART;TZID=Europe/Berlin:20261212T100000
DTEND;TZID=Europe/Berlin:20261212T121500
UID:24C4-18-02-20261212T100000@FBSDÜREN
SUMMARY:Bauernhofentdecker - samstagvormittags - 6-10 Jahre (24C4-18-02) 
LOCATION:Schreinerwerkstatt, Haus der Gemeinde, Wilhelm-Wester-Weg 1a, 52349 Düren
END:VEVENT
END:VCALENDAR