BEGIN:VCALENDAR
VERSION:2.0
PRODID:http://www.kufer.de/kuferweb / DE
METHOD:PUBLISH
CALSCALE:GREGORIAN
X-WR-TIMEZONE:Europe/Berlin
BEGIN:VTIMEZONE
TZID:Europe/Berlin
X-LIC-LOCATION:Europe/Berlin
BEGIN:DAYLIGHT
TZOFFSETFROM:+0100
TZOFFSETTO:+0200
TZNAME:CEST
DTSTART;TZID=Europe/Berlin:19700329T020000
RRULE:FREQ=YEARLY;INTERVAL=1;BYDAY=-1SU;BYMONTH=3
END:DAYLIGHT
BEGIN:STANDARD
TZOFFSETFROM:+0200
TZOFFSETTO:+0100
TZNAME:CET
DTSTART;TZID=Europe/Berlin:19701025T030000
RRULE:FREQ=YEARLY;INTERVAL=1;BYDAY=-1SU;BYMONTH=10
END:STANDARD
END:VTIMEZONE
BEGIN:VEVENT
DTSTAMP:20260423T025142
DTSTART;TZID=Europe/Berlin:20260908T090000
DTEND;TZID=Europe/Berlin:20260908T111500
UID:24C3-18-07-20260908T090000@FBSDÜREN
SUMMARY:Waldspielgruppe Burgau - dienstagvormittags - 1,5 - 4 Jahre (24C3-18-07) 
LOCATION:Burgauer Wald, Von-Aue-Straße (Parkplatz Schloss Burgau), 52355 Düren
END:VEVENT
BEGIN:VEVENT
DTSTAMP:20260423T025142
DTSTART;TZID=Europe/Berlin:20260915T090000
DTEND;TZID=Europe/Berlin:20260915T111500
UID:24C3-18-07-20260915T090000@FBSDÜREN
SUMMARY:Waldspielgruppe Burgau - dienstagvormittags - 1,5 - 4 Jahre (24C3-18-07) 
LOCATION:Burgauer Wald, Von-Aue-Straße (Parkplatz Schloss Burgau), 52355 Düren
END:VEVENT
BEGIN:VEVENT
DTSTAMP:20260423T025142
DTSTART;TZID=Europe/Berlin:20260922T090000
DTEND;TZID=Europe/Berlin:20260922T111500
UID:24C3-18-07-20260922T090000@FBSDÜREN
SUMMARY:Waldspielgruppe Burgau - dienstagvormittags - 1,5 - 4 Jahre (24C3-18-07) 
LOCATION:Burgauer Wald, Von-Aue-Straße (Parkplatz Schloss Burgau), 52355 Düren
END:VEVENT
BEGIN:VEVENT
DTSTAMP:20260423T025142
DTSTART;TZID=Europe/Berlin:20260929T090000
DTEND;TZID=Europe/Berlin:20260929T111500
UID:24C3-18-07-20260929T090000@FBSDÜREN
SUMMARY:Waldspielgruppe Burgau - dienstagvormittags - 1,5 - 4 Jahre (24C3-18-07) 
LOCATION:Burgauer Wald, Von-Aue-Straße (Parkplatz Schloss Burgau), 52355 Düren
END:VEVENT
BEGIN:VEVENT
DTSTAMP:20260423T025142
DTSTART;TZID=Europe/Berlin:20261006T090000
DTEND;TZID=Europe/Berlin:20261006T111500
UID:24C3-18-07-20261006T090000@FBSDÜREN
SUMMARY:Waldspielgruppe Burgau - dienstagvormittags - 1,5 - 4 Jahre (24C3-18-07) 
LOCATION:Burgauer Wald, Von-Aue-Straße (Parkplatz Schloss Burgau), 52355 Düren
END:VEVENT
BEGIN:VEVENT
DTSTAMP:20260423T025142
DTSTART;TZID=Europe/Berlin:20261013T090000
DTEND;TZID=Europe/Berlin:20261013T111500
UID:24C3-18-07-20261013T090000@FBSDÜREN
SUMMARY:Waldspielgruppe Burgau - dienstagvormittags - 1,5 - 4 Jahre (24C3-18-07) 
LOCATION:Burgauer Wald, Von-Aue-Straße (Parkplatz Schloss Burgau), 52355 Düren
END:VEVENT
BEGIN:VEVENT
DTSTAMP:20260423T025142
DTSTART;TZID=Europe/Berlin:20261103T090000
DTEND;TZID=Europe/Berlin:20261103T111500
UID:24C3-18-07-20261103T090000@FBSDÜREN
SUMMARY:Waldspielgruppe Burgau - dienstagvormittags - 1,5 - 4 Jahre (24C3-18-07) 
LOCATION:Burgauer Wald, Von-Aue-Straße (Parkplatz Schloss Burgau), 52355 Düren
END:VEVENT
BEGIN:VEVENT
DTSTAMP:20260423T025142
DTSTART;TZID=Europe/Berlin:20261110T090000
DTEND;TZID=Europe/Berlin:20261110T111500
UID:24C3-18-07-20261110T090000@FBSDÜREN
SUMMARY:Waldspielgruppe Burgau - dienstagvormittags - 1,5 - 4 Jahre (24C3-18-07) 
LOCATION:Burgauer Wald, Von-Aue-Straße (Parkplatz Schloss Burgau), 52355 Düren
END:VEVENT
BEGIN:VEVENT
DTSTAMP:20260423T025142
DTSTART;TZID=Europe/Berlin:20261117T090000
DTEND;TZID=Europe/Berlin:20261117T111500
UID:24C3-18-07-20261117T090000@FBSDÜREN
SUMMARY:Waldspielgruppe Burgau - dienstagvormittags - 1,5 - 4 Jahre (24C3-18-07) 
LOCATION:Burgauer Wald, Von-Aue-Straße (Parkplatz Schloss Burgau), 52355 Düren
END:VEVENT
BEGIN:VEVENT
DTSTAMP:20260423T025142
DTSTART;TZID=Europe/Berlin:20261124T090000
DTEND;TZID=Europe/Berlin:20261124T111500
UID:24C3-18-07-20261124T090000@FBSDÜREN
SUMMARY:Waldspielgruppe Burgau - dienstagvormittags - 1,5 - 4 Jahre (24C3-18-07) 
LOCATION:Burgauer Wald, Von-Aue-Straße (Parkplatz Schloss Burgau), 52355 Düren
END:VEVENT
BEGIN:VEVENT
DTSTAMP:20260423T025142
DTSTART;TZID=Europe/Berlin:20261201T090000
DTEND;TZID=Europe/Berlin:20261201T111500
UID:24C3-18-07-20261201T090000@FBSDÜREN
SUMMARY:Waldspielgruppe Burgau - dienstagvormittags - 1,5 - 4 Jahre (24C3-18-07) 
LOCATION:Burgauer Wald, Von-Aue-Straße (Parkplatz Schloss Burgau), 52355 Düren
END:VEVENT
BEGIN:VEVENT
DTSTAMP:20260423T025142
DTSTART;TZID=Europe/Berlin:20261208T090000
DTEND;TZID=Europe/Berlin:20261208T111500
UID:24C3-18-07-20261208T090000@FBSDÜREN
SUMMARY:Waldspielgruppe Burgau - dienstagvormittags - 1,5 - 4 Jahre (24C3-18-07) 
LOCATION:Burgauer Wald, Von-Aue-Straße (Parkplatz Schloss Burgau), 52355 Düren
END:VEVENT
END:VCALENDAR