BEGIN:VCALENDAR
VERSION:2.0
PRODID:http://www.kufer.de/kuferweb / DE
METHOD:PUBLISH
CALSCALE:GREGORIAN
X-WR-TIMEZONE:Europe/Berlin
BEGIN:VTIMEZONE
TZID:Europe/Berlin
X-LIC-LOCATION:Europe/Berlin
BEGIN:DAYLIGHT
TZOFFSETFROM:+0100
TZOFFSETTO:+0200
TZNAME:CEST
DTSTART;TZID=Europe/Berlin:19700329T020000
RRULE:FREQ=YEARLY;INTERVAL=1;BYDAY=-1SU;BYMONTH=3
END:DAYLIGHT
BEGIN:STANDARD
TZOFFSETFROM:+0200
TZOFFSETTO:+0100
TZNAME:CET
DTSTART;TZID=Europe/Berlin:19701025T030000
RRULE:FREQ=YEARLY;INTERVAL=1;BYDAY=-1SU;BYMONTH=10
END:STANDARD
END:VTIMEZONE
BEGIN:VEVENT
DTSTAMP:20260422T121821
DTSTART;TZID=Europe/Berlin:20260509T100000
DTEND;TZID=Europe/Berlin:20260509T130000
UID:24C2-18-11-20260509T100000@FBSDÜREN
SUMMARY:Wilde Waldkinder- samstagvormittags - 8-11 Jahre (24C2-18-11) 
LOCATION:Burgau/ wird noch bekannt gegeben, , 
END:VEVENT
BEGIN:VEVENT
DTSTAMP:20260422T121821
DTSTART;TZID=Europe/Berlin:20260523T100000
DTEND;TZID=Europe/Berlin:20260523T130000
UID:24C2-18-11-20260523T100000@FBSDÜREN
SUMMARY:Wilde Waldkinder- samstagvormittags - 8-11 Jahre (24C2-18-11) 
LOCATION:Burgau/ wird noch bekannt gegeben, , 
END:VEVENT
BEGIN:VEVENT
DTSTAMP:20260422T121821
DTSTART;TZID=Europe/Berlin:20260606T100000
DTEND;TZID=Europe/Berlin:20260606T130000
UID:24C2-18-11-20260606T100000@FBSDÜREN
SUMMARY:Wilde Waldkinder- samstagvormittags - 8-11 Jahre (24C2-18-11) 
LOCATION:Burgau/ wird noch bekannt gegeben, , 
END:VEVENT
BEGIN:VEVENT
DTSTAMP:20260422T121821
DTSTART;TZID=Europe/Berlin:20260620T100000
DTEND;TZID=Europe/Berlin:20260620T130000
UID:24C2-18-11-20260620T100000@FBSDÜREN
SUMMARY:Wilde Waldkinder- samstagvormittags - 8-11 Jahre (24C2-18-11) 
LOCATION:Burgau/ wird noch bekannt gegeben, , 
END:VEVENT
BEGIN:VEVENT
DTSTAMP:20260422T121821
DTSTART;TZID=Europe/Berlin:20260704T100000
DTEND;TZID=Europe/Berlin:20260704T130000
UID:24C2-18-11-20260704T100000@FBSDÜREN
SUMMARY:Wilde Waldkinder- samstagvormittags - 8-11 Jahre (24C2-18-11) 
LOCATION:Burgau/ wird noch bekannt gegeben, , 
END:VEVENT
BEGIN:VEVENT
DTSTAMP:20260422T121821
DTSTART;TZID=Europe/Berlin:20260718T100000
DTEND;TZID=Europe/Berlin:20260718T130000
UID:24C2-18-11-20260718T100000@FBSDÜREN
SUMMARY:Wilde Waldkinder- samstagvormittags - 8-11 Jahre (24C2-18-11) 
LOCATION:Burgau/ wird noch bekannt gegeben, , 
END:VEVENT
END:VCALENDAR