BEGIN:VCALENDAR
VERSION:2.0
PRODID:http://www.kufer.de/kuferweb / DE
METHOD:PUBLISH
CALSCALE:GREGORIAN
X-WR-TIMEZONE:Europe/Berlin
BEGIN:VTIMEZONE
TZID:Europe/Berlin
X-LIC-LOCATION:Europe/Berlin
BEGIN:DAYLIGHT
TZOFFSETFROM:+0100
TZOFFSETTO:+0200
TZNAME:CEST
DTSTART;TZID=Europe/Berlin:19700329T020000
RRULE:FREQ=YEARLY;INTERVAL=1;BYDAY=-1SU;BYMONTH=3
END:DAYLIGHT
BEGIN:STANDARD
TZOFFSETFROM:+0200
TZOFFSETTO:+0100
TZNAME:CET
DTSTART;TZID=Europe/Berlin:19701025T030000
RRULE:FREQ=YEARLY;INTERVAL=1;BYDAY=-1SU;BYMONTH=10
END:STANDARD
END:VTIMEZONE
BEGIN:VEVENT
DTSTAMP:20260422T102939
DTSTART;TZID=Europe/Berlin:20260727T100000
DTEND;TZID=Europe/Berlin:20260727T140000
UID:24C2-18-09-20260727T100000@FBSDÜREN
SUMMARY:Wilde Waldkinder- Sommerferien I - 6-10 Jahre (24C2-18-09) 
LOCATION:Burgauer Wald, Von-Aue-Straße (Parkplatz Schloss Burgau), 52355 Düren
END:VEVENT
BEGIN:VEVENT
DTSTAMP:20260422T102939
DTSTART;TZID=Europe/Berlin:20260728T100000
DTEND;TZID=Europe/Berlin:20260728T140000
UID:24C2-18-09-20260728T100000@FBSDÜREN
SUMMARY:Wilde Waldkinder- Sommerferien I - 6-10 Jahre (24C2-18-09) 
LOCATION:Burgauer Wald, Von-Aue-Straße (Parkplatz Schloss Burgau), 52355 Düren
END:VEVENT
BEGIN:VEVENT
DTSTAMP:20260422T102939
DTSTART;TZID=Europe/Berlin:20260729T100000
DTEND;TZID=Europe/Berlin:20260729T140000
UID:24C2-18-09-20260729T100000@FBSDÜREN
SUMMARY:Wilde Waldkinder- Sommerferien I - 6-10 Jahre (24C2-18-09) 
LOCATION:Burgauer Wald, Von-Aue-Straße (Parkplatz Schloss Burgau), 52355 Düren
END:VEVENT
BEGIN:VEVENT
DTSTAMP:20260422T102939
DTSTART;TZID=Europe/Berlin:20260730T100000
DTEND;TZID=Europe/Berlin:20260730T140000
UID:24C2-18-09-20260730T100000@FBSDÜREN
SUMMARY:Wilde Waldkinder- Sommerferien I - 6-10 Jahre (24C2-18-09) 
LOCATION:Burgauer Wald, Von-Aue-Straße (Parkplatz Schloss Burgau), 52355 Düren
END:VEVENT
BEGIN:VEVENT
DTSTAMP:20260422T102939
DTSTART;TZID=Europe/Berlin:20260731T100000
DTEND;TZID=Europe/Berlin:20260731T140000
UID:24C2-18-09-20260731T100000@FBSDÜREN
SUMMARY:Wilde Waldkinder- Sommerferien I - 6-10 Jahre (24C2-18-09) 
LOCATION:Burgauer Wald, Von-Aue-Straße (Parkplatz Schloss Burgau), 52355 Düren
END:VEVENT
END:VCALENDAR