BEGIN:VCALENDAR
VERSION:2.0
PRODID:http://www.kufer.de/kuferweb / DE
METHOD:PUBLISH
CALSCALE:GREGORIAN
X-WR-TIMEZONE:Europe/Berlin
BEGIN:VTIMEZONE
TZID:Europe/Berlin
X-LIC-LOCATION:Europe/Berlin
BEGIN:DAYLIGHT
TZOFFSETFROM:+0100
TZOFFSETTO:+0200
TZNAME:CEST
DTSTART;TZID=Europe/Berlin:19700329T020000
RRULE:FREQ=YEARLY;INTERVAL=1;BYDAY=-1SU;BYMONTH=3
END:DAYLIGHT
BEGIN:STANDARD
TZOFFSETFROM:+0200
TZOFFSETTO:+0100
TZNAME:CET
DTSTART;TZID=Europe/Berlin:19701025T030000
RRULE:FREQ=YEARLY;INTERVAL=1;BYDAY=-1SU;BYMONTH=10
END:STANDARD
END:VTIMEZONE
BEGIN:VEVENT
DTSTAMP:20260423T024111
DTSTART;TZID=Europe/Berlin:20260414T090000
DTEND;TZID=Europe/Berlin:20260414T111500
UID:24C2-18-07-20260414T090000@FBSDÜREN
SUMMARY:Waldspielgruppe Burgau - dienstagvormittags - 1,5 - 4 Jahre (24C2-18-07) 
LOCATION:Burgauer Wald, Von-Aue-Straße (Parkplatz Schloss Burgau), 52355 Düren
END:VEVENT
BEGIN:VEVENT
DTSTAMP:20260423T024111
DTSTART;TZID=Europe/Berlin:20260421T090000
DTEND;TZID=Europe/Berlin:20260421T111500
UID:24C2-18-07-20260421T090000@FBSDÜREN
SUMMARY:Waldspielgruppe Burgau - dienstagvormittags - 1,5 - 4 Jahre (24C2-18-07) 
LOCATION:Burgauer Wald, Von-Aue-Straße (Parkplatz Schloss Burgau), 52355 Düren
END:VEVENT
BEGIN:VEVENT
DTSTAMP:20260423T024111
DTSTART;TZID=Europe/Berlin:20260428T090000
DTEND;TZID=Europe/Berlin:20260428T111500
UID:24C2-18-07-20260428T090000@FBSDÜREN
SUMMARY:Waldspielgruppe Burgau - dienstagvormittags - 1,5 - 4 Jahre (24C2-18-07) 
LOCATION:Burgauer Wald, Von-Aue-Straße (Parkplatz Schloss Burgau), 52355 Düren
END:VEVENT
BEGIN:VEVENT
DTSTAMP:20260423T024111
DTSTART;TZID=Europe/Berlin:20260505T090000
DTEND;TZID=Europe/Berlin:20260505T111500
UID:24C2-18-07-20260505T090000@FBSDÜREN
SUMMARY:Waldspielgruppe Burgau - dienstagvormittags - 1,5 - 4 Jahre (24C2-18-07) 
LOCATION:Burgauer Wald, Von-Aue-Straße (Parkplatz Schloss Burgau), 52355 Düren
END:VEVENT
BEGIN:VEVENT
DTSTAMP:20260423T024111
DTSTART;TZID=Europe/Berlin:20260512T090000
DTEND;TZID=Europe/Berlin:20260512T111500
UID:24C2-18-07-20260512T090000@FBSDÜREN
SUMMARY:Waldspielgruppe Burgau - dienstagvormittags - 1,5 - 4 Jahre (24C2-18-07) 
LOCATION:Burgauer Wald, Von-Aue-Straße (Parkplatz Schloss Burgau), 52355 Düren
END:VEVENT
BEGIN:VEVENT
DTSTAMP:20260423T024111
DTSTART;TZID=Europe/Berlin:20260519T090000
DTEND;TZID=Europe/Berlin:20260519T111500
UID:24C2-18-07-20260519T090000@FBSDÜREN
SUMMARY:Waldspielgruppe Burgau - dienstagvormittags - 1,5 - 4 Jahre (24C2-18-07) 
LOCATION:Burgauer Wald, Von-Aue-Straße (Parkplatz Schloss Burgau), 52355 Düren
END:VEVENT
BEGIN:VEVENT
DTSTAMP:20260423T024111
DTSTART;TZID=Europe/Berlin:20260602T090000
DTEND;TZID=Europe/Berlin:20260602T111500
UID:24C2-18-07-20260602T090000@FBSDÜREN
SUMMARY:Waldspielgruppe Burgau - dienstagvormittags - 1,5 - 4 Jahre (24C2-18-07) 
LOCATION:Burgauer Wald, Von-Aue-Straße (Parkplatz Schloss Burgau), 52355 Düren
END:VEVENT
BEGIN:VEVENT
DTSTAMP:20260423T024111
DTSTART;TZID=Europe/Berlin:20260609T090000
DTEND;TZID=Europe/Berlin:20260609T111500
UID:24C2-18-07-20260609T090000@FBSDÜREN
SUMMARY:Waldspielgruppe Burgau - dienstagvormittags - 1,5 - 4 Jahre (24C2-18-07) 
LOCATION:Burgauer Wald, Von-Aue-Straße (Parkplatz Schloss Burgau), 52355 Düren
END:VEVENT
BEGIN:VEVENT
DTSTAMP:20260423T024111
DTSTART;TZID=Europe/Berlin:20260616T090000
DTEND;TZID=Europe/Berlin:20260616T111500
UID:24C2-18-07-20260616T090000@FBSDÜREN
SUMMARY:Waldspielgruppe Burgau - dienstagvormittags - 1,5 - 4 Jahre (24C2-18-07) 
LOCATION:Burgauer Wald, Von-Aue-Straße (Parkplatz Schloss Burgau), 52355 Düren
END:VEVENT
BEGIN:VEVENT
DTSTAMP:20260423T024111
DTSTART;TZID=Europe/Berlin:20260623T090000
DTEND;TZID=Europe/Berlin:20260623T111500
UID:24C2-18-07-20260623T090000@FBSDÜREN
SUMMARY:Waldspielgruppe Burgau - dienstagvormittags - 1,5 - 4 Jahre (24C2-18-07) 
LOCATION:Burgauer Wald, Von-Aue-Straße (Parkplatz Schloss Burgau), 52355 Düren
END:VEVENT
BEGIN:VEVENT
DTSTAMP:20260423T024111
DTSTART;TZID=Europe/Berlin:20260630T090000
DTEND;TZID=Europe/Berlin:20260630T111500
UID:24C2-18-07-20260630T090000@FBSDÜREN
SUMMARY:Waldspielgruppe Burgau - dienstagvormittags - 1,5 - 4 Jahre (24C2-18-07) 
LOCATION:Burgauer Wald, Von-Aue-Straße (Parkplatz Schloss Burgau), 52355 Düren
END:VEVENT
BEGIN:VEVENT
DTSTAMP:20260423T024111
DTSTART;TZID=Europe/Berlin:20260707T090000
DTEND;TZID=Europe/Berlin:20260707T111500
UID:24C2-18-07-20260707T090000@FBSDÜREN
SUMMARY:Waldspielgruppe Burgau - dienstagvormittags - 1,5 - 4 Jahre (24C2-18-07) 
LOCATION:Burgauer Wald, Von-Aue-Straße (Parkplatz Schloss Burgau), 52355 Düren
END:VEVENT
END:VCALENDAR