BEGIN:VCALENDAR
VERSION:2.0
PRODID:http://www.kufer.de/kuferweb / DE
METHOD:PUBLISH
CALSCALE:GREGORIAN
X-WR-TIMEZONE:Europe/Berlin
BEGIN:VTIMEZONE
TZID:Europe/Berlin
X-LIC-LOCATION:Europe/Berlin
BEGIN:DAYLIGHT
TZOFFSETFROM:+0100
TZOFFSETTO:+0200
TZNAME:CEST
DTSTART;TZID=Europe/Berlin:19700329T020000
RRULE:FREQ=YEARLY;INTERVAL=1;BYDAY=-1SU;BYMONTH=3
END:DAYLIGHT
BEGIN:STANDARD
TZOFFSETFROM:+0200
TZOFFSETTO:+0100
TZNAME:CET
DTSTART;TZID=Europe/Berlin:19701025T030000
RRULE:FREQ=YEARLY;INTERVAL=1;BYDAY=-1SU;BYMONTH=10
END:STANDARD
END:VTIMEZONE
BEGIN:VEVENT
DTSTAMP:20260420T153526
DTSTART;TZID=Europe/Berlin:20260418T100000
DTEND;TZID=Europe/Berlin:20260418T121500
UID:24C2-18-02-20260418T100000@FBSDÜREN
SUMMARY:Bauernhofentdecker - samstagvormittags - 6-10 Jahre (24C2-18-02) 
LOCATION:Neuer Hof Bochröder, Stockheimer Landstr. 171, 52351 Düren
END:VEVENT
BEGIN:VEVENT
DTSTAMP:20260420T153526
DTSTART;TZID=Europe/Berlin:20260502T100000
DTEND;TZID=Europe/Berlin:20260502T121500
UID:24C2-18-02-20260502T100000@FBSDÜREN
DESCRIPTION:
 
Bauernhofentdecker: 18.04 / 02.05 / 16.05 / 30.05 / 13.06 / 11.07 = 6 Termine, 10 - 12.15 Uhr
 

SUMMARY:Bauernhofentdecker - samstagvormittags - 6-10 Jahre (24C2-18-02) 
LOCATION:Neuer Hof Bochröder, Stockheimer Landstr. 171, 52351 Düren
END:VEVENT
BEGIN:VEVENT
DTSTAMP:20260420T153526
DTSTART;TZID=Europe/Berlin:20260516T100000
DTEND;TZID=Europe/Berlin:20260516T121500
UID:24C2-18-02-20260516T100000@FBSDÜREN
SUMMARY:Bauernhofentdecker - samstagvormittags - 6-10 Jahre (24C2-18-02) 
LOCATION:Neuer Hof Bochröder, Stockheimer Landstr. 171, 52351 Düren
END:VEVENT
BEGIN:VEVENT
DTSTAMP:20260420T153526
DTSTART;TZID=Europe/Berlin:20260530T100000
DTEND;TZID=Europe/Berlin:20260530T121500
UID:24C2-18-02-20260530T100000@FBSDÜREN
SUMMARY:Bauernhofentdecker - samstagvormittags - 6-10 Jahre (24C2-18-02) 
LOCATION:Neuer Hof Bochröder, Stockheimer Landstr. 171, 52351 Düren
END:VEVENT
BEGIN:VEVENT
DTSTAMP:20260420T153526
DTSTART;TZID=Europe/Berlin:20260613T100000
DTEND;TZID=Europe/Berlin:20260613T121500
UID:24C2-18-02-20260613T100000@FBSDÜREN
SUMMARY:Bauernhofentdecker - samstagvormittags - 6-10 Jahre (24C2-18-02) 
LOCATION:Neuer Hof Bochröder, Stockheimer Landstr. 171, 52351 Düren
END:VEVENT
BEGIN:VEVENT
DTSTAMP:20260420T153526
DTSTART;TZID=Europe/Berlin:20260711T100000
DTEND;TZID=Europe/Berlin:20260711T121500
UID:24C2-18-02-20260711T100000@FBSDÜREN
SUMMARY:Bauernhofentdecker - samstagvormittags - 6-10 Jahre (24C2-18-02) 
LOCATION:Neuer Hof Bochröder, Stockheimer Landstr. 171, 52351 Düren
END:VEVENT
END:VCALENDAR